BEGIN:VCALENDAR
VERSION:2.0
PRODID:-//ChamberMaster//Event Calendar 2.0//EN
METHOD:PUBLISH
X-PUBLISHED-TTL:P3D
REFRESH-INTERVAL:P3D
CALSCALE:GREGORIAN
BEGIN:VEVENT
DTSTART:20121007T200000Z
DTEND:20121008T000000Z
X-MICROSOFT-CDO-ALLDAYEVENT:FALSE
SUMMARY:Let's get Gourdish! CALABASH
DESCRIPTION:Help make this the most spectacular Calabash to date by becoming a sponsor.  Sponsors help underwrite the costs of the event as well as contribute hugely to the event's fundraising success.  Funds raised at Calabash are used to purchase food and supplements for our 650 grateful clients. Levels range from $150 - $5000\, and come with Calabash tickets and recognition both in the event program and online.  Call or e-mail Development Director Beth Wolfer (887-1647 x102 or BethW@FFTFoodbank.org) or donate online.   We will also need donations and volunteers.  We would love some great raffle prizes - wine\, getaways\, tickets\, surprises.               Contact Elisa at volunteer@fftfoodbank.org.
X-ALT-DESC;FMTTYPE=text/html:Help make this the most spectacular Calabash to date by becoming a sponsor.  Sponsors help underwrite the costs of the event as well as contribute hugely to the event's fundraising success.  Funds raised at Calabash are used to purchase food and supplements for our 650 grateful clients. Levels range from $150 - $5000\, and come with Calabash tickets and recognition both in the event program and online.  Call or e-mail Development Director Beth Wolfer (887-1647 x102 or BethW@FFTFoodbank.org) or donate online.   We will also need donations and volunteers.  We would love some great raffle prizes - wine\, getaways\, tickets\, surprises.               Contact Elisa at volunteer@fftfoodbank.org.
LOCATION:6550 Railroad Avenue\, Forestville CA
UID:e.3189.10462
SEQUENCE:3
DTSTAMP:20260422T071125Z
URL:https://business.sebastopol.org/events/details/let-s-get-gourdish-calabash-10-07-2012-10462
END:VEVENT

END:VCALENDAR
