BEGIN:VCALENDAR
VERSION:2.0
PRODID:-//ChamberMaster//Event Calendar 2.0//EN
METHOD:PUBLISH
X-PUBLISHED-TTL:P3D
REFRESH-INTERVAL:P3D
CALSCALE:GREGORIAN
BEGIN:VEVENT
DTSTART:20150417T013000Z
DTEND:20150417T033000Z
X-MICROSOFT-CDO-ALLDAYEVENT:FALSE
SUMMARY:Let's Talk Money
DESCRIPTION:Demystifying Your Barriers to Money Resilience...Let's Talk Money is an exploration into why people's throats dry up when the subject of money comes front and center.
X-ALT-DESC;FMTTYPE=text/html:Demystifying Your Barriers to Money Resilience...Let's Talk Money is an exploration into why people's throats dry up when the subject of money comes front and center.
LOCATION:O'Reilly Media 1005 Gravenstein Hwy North Sebastopol\, Ca 95472
UID:e.3189.5042292
SEQUENCE:3
DTSTAMP:20260420T034945Z
URL:https://business.sebastopol.org/events/details/let-s-talk-money-04-16-2015-5042292
END:VEVENT

END:VCALENDAR
