BEGIN:VCALENDAR
VERSION:2.0
PRODID:-//ChamberMaster//Event Calendar 2.0//EN
METHOD:PUBLISH
X-PUBLISHED-TTL:P3D
REFRESH-INTERVAL:P3D
CALSCALE:GREGORIAN
BEGIN:VEVENT
DTSTART:20150221T210000Z
DTEND:20150222T003000Z
X-MICROSOFT-CDO-ALLDAYEVENT:FALSE
SUMMARY:Live Music & Great Wine at Truett Hurst Winery!
DESCRIPTION:Join Truett Hurst Winery for a day of live music by local artist Dustin Saylor\, wonderful wines\, beautiful gardens! Tasting room open from 10am - 5pm daily\; tasting fee $5\, complimentary with wine purchase. Guests are encouraged to take their tasting outside and enjoy the master gardens\, farm animals\, and even a short walk to the banks of Dry Creek\, where the Steelhead are running. No reservation necessary.
X-ALT-DESC;FMTTYPE=text/html:Join Truett Hurst Winery for a day of live music by local artist Dustin Saylor\, wonderful wines\, beautiful gardens! Tasting room open from 10am - 5pm daily\; tasting fee $5\, complimentary with wine purchase. Guests are encouraged to take their tasting outside and enjoy the master gardens\, farm animals\, and even a short walk to the banks of Dry Creek\, where the Steelhead are running. No reservation necessary.
LOCATION:Truett Hurst Winery 5610 dry Creek Road Healdsburg CA 95448
UID:e.3189.5042150
SEQUENCE:3
DTSTAMP:20260420T071528Z
URL:https://business.sebastopol.org/events/details/live-music-great-wine-at-truett-hurst-winery-02-21-2015-5042150
END:VEVENT

END:VCALENDAR
