BEGIN:VCALENDAR
VERSION:2.0
PRODID:-//ChamberMaster//Event Calendar 2.0//EN
METHOD:PUBLISH
X-PUBLISHED-TTL:P3D
REFRESH-INTERVAL:P3D
CALSCALE:GREGORIAN
BEGIN:VEVENT
DTSTART:20120928T000000Z
DTEND:20120928T030000Z
X-MICROSOFT-CDO-ALLDAYEVENT:FALSE
SUMMARY:Live on the Plaza Business Fair
DESCRIPTION:LIVE ON THE PLAZA 2012\nBusiness Table Top Fair & KJZY Jazzy\, After Work Concert Series\nLet's Mix Business & Pleasure in the Downtown Plaza\nFeaturing over 50 Businesses & Organizations ~ Informtion ~ Networking ~ Samples ~ Raffles\nNo Host Beer/Wine Bar and Live Entertainment by The Blue Moon Band
X-ALT-DESC;FMTTYPE=text/html:LIVE ON THE PLAZA 2012\nBusiness Table Top Fair & KJZY Jazzy\, After Work Concert Series\nLet's Mix Business & Pleasure in the Downtown Plaza\nFeaturing over 50 Businesses & Organizations ~ Informtion ~ Networking ~ Samples ~ Raffles\nNo Host Beer/Wine Bar and Live Entertainment by The Blue Moon Band
LOCATION:Sebastopol Town Plaza\, Petaluma Avenue & McKinley Street
UID:e.3189.8830
SEQUENCE:3
DTSTAMP:20260422T085348Z
URL:https://business.sebastopol.org/events/details/live-on-the-plaza-business-fair-09-27-2012-8830
END:VEVENT

END:VCALENDAR
