BEGIN:VCALENDAR
VERSION:2.0
PRODID:-//ChamberMaster//Event Calendar 2.0//EN
METHOD:PUBLISH
X-PUBLISHED-TTL:P3D
REFRESH-INTERVAL:P3D
CALSCALE:GREGORIAN
BEGIN:VEVENT
DTSTART:20150830T030000Z
DTEND:20150830T050000Z
X-MICROSOFT-CDO-ALLDAYEVENT:FALSE
SUMMARY:Local Talents: Jacob Green and Kyle Martin Band
DESCRIPTION:Come on down to OCA on Saturday\, August 29 at 8 pm for a Summer Local Talent show featuring popular young Sonoma County singer/songwriters Jacob Green and Kyle Martin and his Band. They will offer up two sets of quality “homegrown” music with energetic rhythms\, captivating melodies\, and original lyrics to dance or listen to.Jacob Green\, blues singer/songwriter and modern day Gypsy\, becomes an acoustic “OneManBluesBand” with stompbox\, harmonica and guitar/banjo/ukelele/dobro. Green has a fresh approach to old-school roots and blues lyrics that taps into hip hop\, rockabilly and country genres\, with positive riffs of change and “being green”. He self produces his music under Growth Productions. http://www.jacobgreenmusic.netSanta Rosa native Kyle Martin was raised by musician parents Nancy Pettit-Martin and the late Craig Martin\, a founding member of “Butch Whacks and the Glass Packs”. He has studied voice and piano\, and took guitar lessons from age 10 to 16 from Hoytus Randall.From garage /punk band beginnings to facilitating the Boogie Room ( a non profit space connecting community with music and agriculture)\, Kyle has always captured a rural brand of idealism in his music and lyrics. Kyle Martin Band currently comprises Garrett Davis\, Taylor Cuffie\, and multi-instrumentalist Kevin Cole. http://www.kylemartinband.com . Support our fine young local musicians and your local non profit arts center!! $10 at the door\; or through BPT.
X-ALT-DESC;FMTTYPE=text/html:<!--  Visual Designer HTML --><span style="text-indent: 2em">Come on down to OCA on Saturday\, August 29 at 8 pm for a Summer Local&nbsp\;Talent show featuring popular young Sonoma County singer/songwriters </span><strong style="text-indent: 2em">Jacob Green</strong><span style="text-indent: 2em">&nbsp\;and </span><strong style="text-indent: 2em">Kyle Martin</strong><span style="text-indent: 2em"> and his Band. They will offer up two sets of quality “homegrown”&nbsp\;music with&nbsp\;</span><span style="text-indent: 2em">energetic rhythms\, captivating melodies\, and original lyrics to dance or listen to.</span><p style="text-indent: 2em">Jacob Green\, blues singer/songwriter and modern day Gypsy\, becomes an acoustic&nbsp\;“OneManBluesBand” with stompbox\, harmonica and guitar/banjo/ukelele/dobro. Green&nbsp\;has a fresh approach to old-school roots and blues lyrics that taps into hip hop\, rockabilly&nbsp\;and country genres\, with positive riffs of change and “being green”. He self produces his&nbsp\;music under Growth Productions.&nbsp\;<a title="http://www.jacobgreenmusic.net" href="http://www.jacobgreenmusic.net/" target="_blank">http://www.jacobgreenmusic.net</a></p><p style="text-indent: 2em">Santa Rosa native Kyle Martin was raised by musician parents Nancy Pettit-Martin&nbsp\;and the late Craig Martin\, a founding member of “Butch Whacks and the Glass Packs”.&nbsp\;He has studied voice and piano\, and took guitar lessons from age 10 to 16 from Hoytus&nbsp\;Randall.From garage /punk band beginnings to facilitating the Boogie Room ( a non&nbsp\;profit space connecting community with music and agriculture)\, Kyle has always&nbsp\;captured a rural brand of idealism in his music and lyrics. Kyle Martin Band currently&nbsp\;comprises Garrett Davis\, Taylor Cuffie\, and multi-instrumentalist Kevin Cole.<a title=" http://www.kylemartinband.com" href="http://www.kylemartinband.com/" target="_blank">&nbsp\;http://www.kylemartinband.com</a> . Support our fine young local musicians and your local&nbsp\;non profit arts center!! $10 at the door\; or through BPT.</p>
LOCATION:3850 Doris Murphy Ct Occidental\, CA 95465
UID:e.3189.5042689
SEQUENCE:3
DTSTAMP:20260419T210623Z
URL:https://business.sebastopol.org/events/details/local-talents-jacob-green-and-kyle-martin-band-08-29-2015-5042689
END:VEVENT

END:VCALENDAR
