BEGIN:VCALENDAR
VERSION:2.0
PRODID:-//ChamberMaster//Event Calendar 2.0//EN
METHOD:PUBLISH
X-PUBLISHED-TTL:P3D
REFRESH-INTERVAL:P3D
CALSCALE:GREGORIAN
BEGIN:VEVENT
DTSTART:20141206T180000Z
DTEND:20141208T000000Z
X-MICROSOFT-CDO-ALLDAYEVENT:FALSE
SUMMARY:Luther Burbank Home & Gardens Holiday Open House
DESCRIPTION:In the Gift Shop\, you'll be "bowled over" by our selection of wonderful wooden bowls as well as pepper grinders\, oil lamps and wine corks - all created from the elm which used to grace our Courtyard.  In addition to these unique wood items\, we're also featuring a return of the stunning vegetable jewelry from Turning Leaf Handmade - earrings\, cuff bracelets and necklaces made from vegetable parchment.  And our Volunteers have knit and crocheted a lovely variety of cowls and scarves to warm you and/or your family and friends.
X-ALT-DESC;FMTTYPE=text/html:In the Gift Shop\, you'll be "bowled over" by our selection of wonderful wooden bowls as well as pepper grinders\, oil lamps and wine corks - all created from the elm which used to grace our Courtyard.  In addition to these unique wood items\, we're also featuring a return of the stunning vegetable jewelry from Turning Leaf Handmade - earrings\, cuff bracelets and necklaces made from vegetable parchment.  And our Volunteers have knit and crocheted a lovely variety of cowls and scarves to warm you and/or your family and friends.
LOCATION:Luther Burbank Home and Gardens Santa Rosa and Sonoma Avenues Santa Rosa\, CA 95404
UID:e.3189.27622
SEQUENCE:3
DTSTAMP:20260420T101300Z
URL:https://business.sebastopol.org/events/details/luther-burbank-home-gardens-holiday-open-house-12-06-2014-27622
END:VEVENT

END:VCALENDAR
