BEGIN:VCALENDAR
VERSION:2.0
PRODID:-//ChamberMaster//Event Calendar 2.0//EN
METHOD:PUBLISH
X-PUBLISHED-TTL:P3D
REFRESH-INTERVAL:P3D
CALSCALE:GREGORIAN
BEGIN:VEVENT
DTSTART:20150315T023000Z
DTEND:20150315T043000Z
X-MICROSOFT-CDO-ALLDAYEVENT:FALSE
SUMMARY:Lysander Piano Trio
DESCRIPTION:Redwood Arts presents The Lysander Piano Trio at 7:30 pm on March 14 in the Occidental Center for the Arts.  The program will include the lovely Elegy by Josef Suk\, the Trio in E Major by Haydn\, the Piano Trio No. 1 by Shostakovich and Piano Trio in A minor written by Tchaikovsky in memory of a friend. The Lysander Piano Trio\, a winner of the 2012 Concert Artists Guild Victor Elmaleh Competition\, has been praised by the Strad for its “…incredible ensemble\, passionate playing\, articulate and imaginative ideas and wide palette of colours.”  And in April 2014\, The New York Times praised their “. . .rich sound and nuanced musicianship…”\n\nTickets are $30.00 for general admission and $10 for unaccompanied students with ID.  Students with parents admitted free.  For tickets and information visit redwoodarts.org  or brownpapertickets.com or call the Redwood Arts Council at 874-1124.
X-ALT-DESC;FMTTYPE=text/html:Redwood Arts presents The Lysander Piano Trio at 7:30 pm on March 14 in the Occidental Center for the Arts.  The program will include the lovely Elegy by Josef Suk\, the Trio in E Major by Haydn\, the Piano Trio No. 1 by Shostakovich and Piano Trio in A minor written by Tchaikovsky in memory of a friend. The Lysander Piano Trio\, a winner of the 2012 Concert Artists Guild Victor Elmaleh Competition\, has been praised by the Strad for its “…incredible ensemble\, passionate playing\, articulate and imaginative ideas and wide palette of colours.”  And in April 2014\, The New York Times praised their “. . .rich sound and nuanced musicianship…”\n\nTickets are $30.00 for general admission and $10 for unaccompanied students with ID.  Students with parents admitted free.  For tickets and information visit redwoodarts.org  or brownpapertickets.com or call the Redwood Arts Council at 874-1124.
LOCATION:Occidental Center for the Arts 3850 Doris Murphy Court Occidental\, CA 95465
UID:e.3189.5042208
SEQUENCE:3
DTSTAMP:20260420T065805Z
URL:https://business.sebastopol.org/events/details/lysander-piano-trio-03-14-2015-5042208
END:VEVENT

END:VCALENDAR
