BEGIN:VCALENDAR
VERSION:2.0
PRODID:-//ChamberMaster//Event Calendar 2.0//EN
METHOD:PUBLISH
X-PUBLISHED-TTL:P3D
REFRESH-INTERVAL:P3D
CALSCALE:GREGORIAN
BEGIN:VEVENT
DTSTART:20130309T080000Z
DTEND:20130504T070000Z
X-MICROSOFT-CDO-ALLDAYEVENT:FALSE
SUMMARY:M is for Mystique\, an art exhibit from local artists
DESCRIPTION:Saturday\, May 9\, artists' reception\, come and meet the artists from 4:00 pm to 6:00 pm\, appetizers and wine.\nRegular galley hours are Friday and Saturday\, 11:00 am. to 4:00 pm.  This exhibit runs through May 4.
X-ALT-DESC;FMTTYPE=text/html:Saturday\, May 9\, artists' reception\, come and meet the artists from 4:00 pm to 6:00 pm\, appetizers and wine.\nRegular galley hours are Friday and Saturday\, 11:00 am. to 4:00 pm.  This exhibit runs through May 4.
LOCATION:Occidental Center for the Arts 3850 Doris Murphy Court Occidental\, CA
UID:e.3189.5040467
SEQUENCE:3
DTSTAMP:20260421T203521Z
URL:https://business.sebastopol.org/events/details/m-is-for-mystique-an-art-exhibit-from-local-artists-03-09-2013-5040467
END:VEVENT

END:VCALENDAR
