BEGIN:VCALENDAR
VERSION:2.0
PRODID:-//ChamberMaster//Event Calendar 2.0//EN
METHOD:PUBLISH
X-PUBLISHED-TTL:P3D
REFRESH-INTERVAL:P3D
CALSCALE:GREGORIAN
BEGIN:VEVENT
DTSTART:20141221T040000Z
DTEND:20141221T070000Z
X-MICROSOFT-CDO-ALLDAYEVENT:FALSE
SUMMARY:Magical Holiday Concert: A Winter Gift
DESCRIPTION:Occidental Center for the Arts presents a magical holiday concert A Winter Gift\, featuring world renowned Celtic harpists Patrick Ball\, Lisa Lynne\, and Aryeh Frankfurter (LegendsOfTheCelticHarp.com ). Joyous pieces of beloved holiday music played on multiple instruments are woven into seasonal Celtic legends and beloved English and Irish stories of winter told by spoken word master Patrick Ball. Don’t miss this dramatic blend of music and oratory presented by these extraordinary musicians that touches on the central message of Christmas: Hope. $20 at door/$15 Advance Reservations. Seasonal refreshments available. Wheelchair accessible
X-ALT-DESC;FMTTYPE=text/html:Occidental Center for the Arts presents a magical holiday concert A Winter Gift\, featuring world renowned Celtic harpists Patrick Ball\, Lisa Lynne\, and Aryeh Frankfurter (LegendsOfTheCelticHarp.com <http://LegendsOfTheCelticHarp.com>). Joyous pieces of beloved holiday music played on multiple instruments are woven into seasonal Celtic legends and beloved English and Irish stories of winter told by spoken word master Patrick Ball. Don’t miss this dramatic blend of music and oratory presented by these extraordinary musicians that touches on the central message of Christmas: Hope. $20 at door/$15 Advance Reservations. Seasonal refreshments available. Wheelchair accessible
LOCATION:Occidental Center for the Arts 2850 Doris Murphy Court Occidental\, CA 95465
UID:e.3189.27386
SEQUENCE:3
DTSTAMP:20260420T101238Z
URL:https://business.sebastopol.org/events/details/magical-holiday-concert-a-winter-gift-12-20-2014-27386
END:VEVENT

END:VCALENDAR
