BEGIN:VCALENDAR
VERSION:2.0
PRODID:-//ChamberMaster//Event Calendar 2.0//EN
METHOD:PUBLISH
X-PUBLISHED-TTL:P3D
REFRESH-INTERVAL:P3D
CALSCALE:GREGORIAN
BEGIN:VEVENT
DTSTART:20150307T040000Z
DTEND:20150307T060000Z
X-MICROSOFT-CDO-ALLDAYEVENT:FALSE
SUMMARY:Mamajowali
DESCRIPTION:Seamlessly interweaving two continents and three bright musical sensibilities\, Mamajowali is three veteran musicians that have found common ground in a new and unique sound. Their blend of kamale ngoni (the hunter’s harp) with six string guitar\, percussion\, fiddle\, mandolin and singing is traditional\, innovative and uncommon - all at the same time. Mamajowali overlays West African music\, old time Americana\, and spirited originals. Hoppin’ high energy grooves and tons of improvisational trialogue. Come listen to the sound you’ve never heard ~ “Afromericana!”
X-ALT-DESC;FMTTYPE=text/html:Seamlessly interweaving two continents and three bright musical sensibilities\, Mamajowali is three veteran musicians that have found common ground in a new and unique sound. Their blend of kamale ngoni (the hunter’s harp) with six string guitar\, percussion\, fiddle\, mandolin and singing is traditional\, innovative and uncommon - all at the same time. Mamajowali overlays West African music\, old time Americana\, and spirited originals. Hoppin’ high energy grooves and tons of improvisational trialogue. Come listen to the sound you’ve never heard ~ “Afromericana!”
LOCATION:Sebastopol Community Cultural Center 390 Morris Street Sebastopol\, CA. 95472
UID:e.3189.5042175
SEQUENCE:3
DTSTAMP:20260420T053352Z
URL:https://business.sebastopol.org/events/details/mamajowali-03-06-2015-5042175
END:VEVENT

END:VCALENDAR
