BEGIN:VCALENDAR
VERSION:2.0
PRODID:-//ChamberMaster//Event Calendar 2.0//EN
METHOD:PUBLISH
X-PUBLISHED-TTL:P3D
REFRESH-INTERVAL:P3D
CALSCALE:GREGORIAN
BEGIN:VEVENT
DTSTART:20150522T013000Z
DTEND:20150522T030000Z
X-MICROSOFT-CDO-ALLDAYEVENT:FALSE
SUMMARY:Managing Risk an Entrepreneurs Guide to Business Insurance
DESCRIPTION:Having peace of mind makes you a better decision maker and more effective at running and growing your business. Not having adequate insurance coverage can turn out to be expensive. Illuminate your true insurance needs and eliminate the gaps. Stop wondering and get the kind of information from Gena that will allow you to build the right sized policies to protect your assets and future.\n\nIf you’re currently covered\, bring your declaration pages and walk away with a clear understanding of what you’ve bought.
X-ALT-DESC;FMTTYPE=text/html:Having peace of mind makes you a better decision maker and more effective at running and growing your business. Not having adequate insurance coverage can turn out to be expensive. Illuminate your true insurance needs and eliminate the gaps. Stop wondering and get the kind of information from Gena that will allow you to build the right sized policies to protect your assets and future.\n\nIf you’re currently covered\, bring your declaration pages and walk away with a clear understanding of what you’ve bought.
LOCATION:O'Reilly Media 1005 Gravenstein Hwy North Sebastopol\, Ca 95472
UID:e.3189.5042442
SEQUENCE:3
DTSTAMP:20260420T023618Z
URL:https://business.sebastopol.org/events/details/managing-risk-an-entrepreneurs-guide-to-business-insurance-05-21-2015-5042442
END:VEVENT

END:VCALENDAR
