BEGIN:VCALENDAR
VERSION:2.0
PRODID:-//ChamberMaster//Event Calendar 2.0//EN
METHOD:PUBLISH
X-PUBLISHED-TTL:P3D
REFRESH-INTERVAL:P3D
CALSCALE:GREGORIAN
BEGIN:VEVENT
DTSTART:20150308T110000Z
DTEND:20150315T230000Z
X-MICROSOFT-CDO-ALLDAYEVENT:FALSE
SUMMARY:Mandala sand Painting Live Exhibition
DESCRIPTION:The monks of Drepung Loseling Monastery will construct Medicine Buddha sand mandala by pouring millions of grains of colored sand into place over a period of days.\nThe Medicine Buddha is the Buddha for health and living.\nThere will be a community sand painting for the visitors to create.\n\nOpening Ceremony                         March 8    4PM\nMandala Construction &Viewing       March 9-14    Noon – 6PM\n                                                    March 15    Noon -2PM  \nDaily Meditation & Chanting            March 8-14    5:30PM-6PM \nThe Drepung Loseling monks will lead chant and meditation sessions st the end of each day's construction\, giving the public an opportunity to meditate with them. By donation\nClosing Ceremony                         March 15   4PM
X-ALT-DESC;FMTTYPE=text/html:The monks of Drepung Loseling Monastery will construct Medicine Buddha sand mandala by pouring millions of grains of colored sand into place over a period of days.\nThe Medicine Buddha is the Buddha for health and living.\nThere will be a community sand painting for the visitors to create.\n\nOpening Ceremony                         March 8    4PM\nMandala Construction &Viewing       March 9-14    Noon – 6PM\n                                                    March 15    Noon -2PM  \nDaily Meditation & Chanting            March 8-14    5:30PM-6PM \nThe Drepung Loseling monks will lead chant and meditation sessions st the end of each day's construction\, giving the public an opportunity to meditate with them. By donation\nClosing Ceremony                         March 15   4PM
LOCATION:Tibetan Gallery & Studio 6770 McKinley Street #130 (in the Barlow)\, Sebastopol\, CA 95472
UID:e.3189.5042181
SEQUENCE:3
DTSTAMP:20260420T070036Z
URL:https://business.sebastopol.org/events/details/mandala-sand-painting-live-exhibition-03-08-2015-5042181
END:VEVENT

END:VCALENDAR
