BEGIN:VCALENDAR
VERSION:2.0
PRODID:-//ChamberMaster//Event Calendar 2.0//EN
METHOD:PUBLISH
X-PUBLISHED-TTL:P3D
REFRESH-INTERVAL:P3D
CALSCALE:GREGORIAN
BEGIN:VEVENT
DTSTART:20150301T230000Z
DTEND:20150302T010000Z
X-MICROSOFT-CDO-ALLDAYEVENT:FALSE
SUMMARY:March Winds\, a BENEFIT concert
DESCRIPTION:Sonoma County's premier instrumentalists in two wind groups. Coastal Winds : Valerie White-flute\, Daniel Celidore-oboe\, Jeff Chan-clarinet\, Miranda Kincaid-bassoon\, and  John Lounsbery- horn will present among other compositions the first public performance of a piece by local composer and teacher Mazdak Khamda  based on a composition by Percy Grainger entitled Walking Tune\, which will also be performed .\nA brass quintet \, The Fifth Avenue Brass : Tom Hyde-trumpet\, Dave Lindgren-trumpet\, John Lounsbery-horn\, Gary Piner-trombone\, and Gary Meierhenry-tuba will present the second half. $20 General\; Benefits OCA!  Fine Refreshments for sale. Wheelchair accessible. Reservations www.occidentalcenterforthearts.org
X-ALT-DESC;FMTTYPE=text/html:Sonoma County's premier instrumentalists in two wind groups. Coastal Winds : Valerie White-flute\, Daniel Celidore-oboe\, Jeff Chan-clarinet\, Miranda Kincaid-bassoon\, and  John Lounsbery- horn will present among other compositions the first public performance of a piece by local composer and teacher Mazdak Khamda  based on a composition by Percy Grainger entitled Walking Tune\, which will also be performed .\nA brass quintet \, The Fifth Avenue Brass : Tom Hyde-trumpet\, Dave Lindgren-trumpet\, John Lounsbery-horn\, Gary Piner-trombone\, and Gary Meierhenry-tuba will present the second half. $20 General\; Benefits OCA!  Fine Refreshments for sale. Wheelchair accessible. Reservations www.occidentalcenterforthearts.org <http://www.occidentalcenterforthearts.org/>
LOCATION:Occidental Center for the Arts Bohemian Hwy.@ Graton Rd.\, Occidental.
UID:e.3189.31832
SEQUENCE:3
DTSTAMP:20260420T065852Z
URL:https://business.sebastopol.org/events/details/march-winds-a-benefit-concert-03-01-2015-31832
END:VEVENT

END:VCALENDAR
