BEGIN:VCALENDAR
VERSION:2.0
PRODID:-//ChamberMaster//Event Calendar 2.0//EN
METHOD:PUBLISH
X-PUBLISHED-TTL:P3D
REFRESH-INTERVAL:P3D
CALSCALE:GREGORIAN
BEGIN:VEVENT
DTSTART:20150502T173000Z
DTEND:20150502T193000Z
X-MICROSOFT-CDO-ALLDAYEVENT:FALSE
SUMMARY:Master Gardeners
DESCRIPTION:Learn gardening from the masters.  Join master gardener Anne Lowings to learn about drip succulents.
X-ALT-DESC;FMTTYPE=text/html:Learn gardening from the masters.  Join master gardener Anne Lowings to learn about drip succulents.
LOCATION:Sebastopol Regional Library 7140 Bodega Avenue\, Sebastopol
UID:e.3189.5042345
SEQUENCE:3
DTSTAMP:20260420T021412Z
URL:https://business.sebastopol.org/events/details/master-gardeners-05-02-2015-5042345
END:VEVENT

END:VCALENDAR
