BEGIN:VCALENDAR
VERSION:2.0
PRODID:-//ChamberMaster//Event Calendar 2.0//EN
METHOD:PUBLISH
X-PUBLISHED-TTL:P3D
REFRESH-INTERVAL:P3D
CALSCALE:GREGORIAN
BEGIN:VEVENT
DTSTART:20171007T173000Z
DTEND:20171007T193000Z
X-MICROSOFT-CDO-ALLDAYEVENT:FALSE
SUMMARY:Master Gardeners Workshop
DESCRIPTION:Electra de Peyster will present "Seed Saving in the Home Garden." Discover the environmental value in saving your own seeds every year in this day and age when 5 multinational seed companies own 75% of the world's vegetable seed market.
X-ALT-DESC;FMTTYPE=text/html:<!--  Visual Designer HTML --><span style="background-color: #ffffff\; color: #333333">Electra de Peyster will present &quot\;Seed Saving in the Home Garden.&quot\; Discover the environmental value in saving your own seeds every year in this day and age when 5 multinational seed companies own 75% of the world&#39\;s vegetable seed market.</span>
LOCATION:Sebastopol Regional Library 7140 Bodega Ave. Sebastopol\, CA 95472
UID:e.3189.5045186
SEQUENCE:3
DTSTAMP:20260425T225238Z
URL:https://business.sebastopol.org/events/details/master-gardeners-workshop-10-07-2017-5045186
END:VEVENT

END:VCALENDAR
