BEGIN:VCALENDAR
VERSION:2.0
PRODID:-//ChamberMaster//Event Calendar 2.0//EN
METHOD:PUBLISH
X-PUBLISHED-TTL:P3D
REFRESH-INTERVAL:P3D
CALSCALE:GREGORIAN
BEGIN:VEVENT
DTSTART:20140913T190000Z
DTEND:20140914T000000Z
X-MICROSOFT-CDO-ALLDAYEVENT:FALSE
SUMMARY:McKinley Street Mural Project
DESCRIPTION:Help us paint the pavement with street murals designed by local artist Dana Vallarino. You can help paint a 33' version of Spirit Bird up at the Petaluma Ave. end of McKinley St. and Spirit Canine down near Taylor Maid. This project is part of the Village Building Convergence. No artistic experience required. Come paint and enjoy the live music.
X-ALT-DESC;FMTTYPE=text/html:Help us paint the pavement with street murals designed by local artist Dana Vallarino. You can help paint a 33' version of Spirit Bird up at the Petaluma Ave. end of McKinley St. and Spirit Canine down near Taylor Maid. This project is part of the Village Building Convergence. No artistic experience required. Come paint and enjoy the live music.
LOCATION:McKinley Street between Petaluma Ave. and Taylor Maid Coffee (in The Barlow).
UID:e.3189.5041567
SEQUENCE:3
DTSTAMP:20260421T101109Z
URL:https://business.sebastopol.org/events/details/mckinley-street-mural-project-09-13-2014-5041567
END:VEVENT

END:VCALENDAR
