BEGIN:VCALENDAR
VERSION:2.0
PRODID:-//ChamberMaster//Event Calendar 2.0//EN
METHOD:PUBLISH
X-PUBLISHED-TTL:P3D
REFRESH-INTERVAL:P3D
CALSCALE:GREGORIAN
BEGIN:VEVENT
DTSTART:20190820T200000Z
DTEND:20190820T230000Z
X-MICROSOFT-CDO-ALLDAYEVENT:FALSE
SUMMARY:Metal Working Basics
DESCRIPTION:For those interested in doing metal fabrication and sculpture. This is an introductory class where you learn to use basic metalworking tools. What you?ll learn: - Angle grinders (with all attachments/wheels - Bench Grinder - Metal Break - Chop Saw and Cut-off saw What to wear: Wear long sleeves\, natural fibers\, jeans and closed to shoes--leather\, preferably Experience Level: All are welcome to join (members and non-members)\, this class also qualifies as a sign off for Chimera members. Note: We also host an Intermediate class teaching Welding\, Plasma Cutting\, and more on Fridays. Cancellation Policy: This class has a minimum attendance of 4\, all attendees must register 72 hours in advance.
X-ALT-DESC;FMTTYPE=text/html:<br>\nFor those interested in doing metal fabrication and sculpture. This is an introductory class where you learn to use basic metalworking tools. What you?ll learn: - Angle grinders (with all attachments/wheels - Bench Grinder - Metal Break - Chop Saw and Cut-off saw What to wear: Wear long sleeves\, natural fibers\, jeans and closed to shoes--leather\, preferably Experience Level: All are welcome to join (members and non-members)\, this class also qualifies as a sign off for Chimera members. Note: We also host an Intermediate class teaching Welding\, Plasma Cutting\, and more on Fridays. Cancellation Policy: This class has a minimum attendance of 4\, all attendees must register 72 hours in advance.
LOCATION:Chimera Arts & Maker Space 6791 Sebastopol Ave. Suite #180 Sebastopol \, CA 95472
UID:e.3189.5049882
SEQUENCE:3
DTSTAMP:20260423T231506Z
URL:https://business.sebastopol.org/events/details/metal-working-basics-08-20-2019-5049882
END:VEVENT

END:VCALENDAR
