BEGIN:VCALENDAR
VERSION:2.0
PRODID:-//ChamberMaster//Event Calendar 2.0//EN
METHOD:PUBLISH
X-PUBLISHED-TTL:P3D
REFRESH-INTERVAL:P3D
CALSCALE:GREGORIAN
BEGIN:VEVENT
DTSTART:20141112T153000Z
DTEND:20141112T153000Z
X-MICROSOFT-CDO-ALLDAYEVENT:FALSE
SUMMARY:Mindful Hiring: HR Business Leader Series
DESCRIPTION:One of the strongest competitive advantages your company has is how your key contributors and next-level leaders solve business issues\, carry out the company mission\, run the operation and interact with your customers. Make no mistake about it\, your hiring decisions make or break your business. What you don't know about hiring will cost you-in training time\, productivity losses\, company morale\, employee productivity\, new sales\, customers and more.  \n\nLearn about big data\, social graphing and deep analytics that help companies find\, filter and match the right people to the right jobs for the right reasons.
X-ALT-DESC;FMTTYPE=text/html:One of the strongest competitive advantages your company has is how your key contributors and next-level leaders solve business issues\, carry out the company mission\, run the operation and interact with your customers. Make no mistake about it\, your hiring decisions make or break your business. What you don't know about hiring will cost you-in training time\, productivity losses\, company morale\, employee productivity\, new sales\, customers and more.  \n\nLearn about big data\, social graphing and deep analytics that help companies find\, filter and match the right people to the right jobs for the right reasons.
LOCATION:Exchange Bank\, 533 Fifth Street\, Santa Rosa\, CA 95401
UID:e.3189.5041591
SEQUENCE:3
DTSTAMP:20260420T131728Z
URL:https://business.sebastopol.org/events/details/mindful-hiring-hr-business-leader-series-11-12-2014-5041591
END:VEVENT

END:VCALENDAR
