BEGIN:VCALENDAR
VERSION:2.0
PRODID:-//ChamberMaster//Event Calendar 2.0//EN
METHOD:PUBLISH
X-PUBLISHED-TTL:P3D
REFRESH-INTERVAL:P3D
CALSCALE:GREGORIAN
BEGIN:VEVENT
DTSTART:20130504T173000Z
DTEND:20130504T200000Z
X-MICROSOFT-CDO-ALLDAYEVENT:FALSE
SUMMARY:Mombo's To Mombo's Family Fundraiser Bike Ride
DESCRIPTION:Fundraiser Family Bike Ride from Mombo's Sebastopol to Mombo's Santa Rosa\, to benefit Sebastopol Union School District's arts & music. Guided rides every 30 minutes or ride alone. Full\, half\, or mini ride options. Live music\, free food\, and bicycle giveaway.
X-ALT-DESC;FMTTYPE=text/html:Fundraiser Family Bike Ride from Mombo's Sebastopol to Mombo's Santa Rosa\, to benefit Sebastopol Union School District's arts & music. Guided rides every 30 minutes or ride alone. Full\, half\, or mini ride options. Live music\, free food\, and bicycle giveaway.
LOCATION:Mombo's Sebastopol 560 Gravenstein Highway North Sebastopol\, CA 95472 (707) 823-7492
UID:e.3189.5040629
SEQUENCE:3
DTSTAMP:20260421T203607Z
URL:https://business.sebastopol.org/events/details/mombo-s-to-mombo-s-family-fundraiser-bike-ride-05-04-2013-5040629
END:VEVENT

END:VCALENDAR
