BEGIN:VCALENDAR
VERSION:2.0
PRODID:-//ChamberMaster//Event Calendar 2.0//EN
METHOD:PUBLISH
X-PUBLISHED-TTL:P3D
REFRESH-INTERVAL:P3D
CALSCALE:GREGORIAN
BEGIN:VEVENT
DTSTART:20130511T170000Z
DTEND:20130512T233000Z
X-MICROSOFT-CDO-ALLDAYEVENT:FALSE
SUMMARY:Mother's Day Weekend
DESCRIPTION:Say thanks to Mom for all that she does and treat her to a day of wine tasting. We’ll have a complimentary “Mother’s Flight” for moms all weekend long\, and on Sunday we’ll have Steven Anderson’s band playing on our patio. So stop by for a tasting and celebrate the “Mom” in your life.
X-ALT-DESC;FMTTYPE=text/html:Say thanks to Mom for all that she does and treat her to a day of wine tasting. We’ll have a complimentary “Mother’s Flight” for moms all weekend long\, and on Sunday we’ll have Steven Anderson’s band playing on our patio. So stop by for a tasting and celebrate the “Mom” in your life.
LOCATION:Dutton-Goldfield Winery\, 3100 Gravenstein Hwy North\, Sebastopol\, CA. 95472
UID:e.3189.5040640
SEQUENCE:3
DTSTAMP:20260421T204313Z
URL:https://business.sebastopol.org/events/details/mother-s-day-weekend-05-11-2013-5040640
END:VEVENT

END:VCALENDAR
