BEGIN:VCALENDAR
VERSION:2.0
PRODID:-//ChamberMaster//Event Calendar 2.0//EN
METHOD:PUBLISH
X-PUBLISHED-TTL:P3D
REFRESH-INTERVAL:P3D
CALSCALE:GREGORIAN
BEGIN:VEVENT
DTSTART:20120828T200700Z
DTEND:20120828T200700Z
X-MICROSOFT-CDO-ALLDAYEVENT:FALSE
SUMMARY:Much Ado About Sebastopol ~ Reniassance Faire
DESCRIPTION:Step back in time for a FULL WEEKEND this year...\n\nJoin us for a family-friendly Renaissance Faire. Make herbal soap while listening to a wandering minstral... enjoy some ice cold lemonade while watching a storyteller... sit back and take in a short Shakespeare performance while having a scrumptious lunch. \n\nCome celebrate the Feast of St. Michael (Michelmas) - when rents are due\, wages are paid\, and the harvest has been brought in and stored for the long\, dark and cold months ahead. It's time to relax and enjoy some well-earned recreation while giving thanks that their harvest was bountiful\, and that they'll make it through the coming winter.\n\nQueen Elizabeth has been out hunting with her courtiers\, and her Master of Horse\, Robert Dudley\, The Earl of Leicester has arranged a surprise for her. He intends to lead her back to his manor by way of the celebration. Here she will meet her people and be entertained in their rustic fashion. \n \nSave $2 per ticket on Presale admission tickets as follows:\n\nSINGLE DAY - $10 for adults\, $5 for students ages 6 through 14\, and free for children under 6          \n                     years of age\nWEEKEND -    $18 for adults\, $8 for students ages 6 through 14\, and free for children under 6       \n                     years of age
X-ALT-DESC;FMTTYPE=text/html:Step back in time for a FULL WEEKEND this year...\n\nJoin us for a family-friendly Renaissance Faire. Make herbal soap while listening to a wandering minstral... enjoy some ice cold lemonade while watching a storyteller... sit back and take in a short Shakespeare performance while having a scrumptious lunch. \n\nCome celebrate the Feast of St. Michael (Michelmas) - when rents are due\, wages are paid\, and the harvest has been brought in and stored for the long\, dark and cold months ahead. It's time to relax and enjoy some well-earned recreation while giving thanks that their harvest was bountiful\, and that they'll make it through the coming winter.\n\nQueen Elizabeth has been out hunting with her courtiers\, and her Master of Horse\, Robert Dudley\, The Earl of Leicester has arranged a surprise for her. He intends to lead her back to his manor by way of the celebration. Here she will meet her people and be entertained in their rustic fashion. \n \nSave $2 per ticket on Presale admission tickets as follows:\n\nSINGLE DAY - $10 for adults\, $5 for students ages 6 through 14\, and free for children under 6          \n                     years of age\nWEEKEND -    $18 for adults\, $8 for students ages 6 through 14\, and free for children under 6       \n                     years of age
LOCATION:Ives Park\, Sebastopol Willow and Jewell Avenue
UID:e.3189.8818
SEQUENCE:3
DTSTAMP:20260422T100635Z
URL:https://business.sebastopol.org/events/details/much-ado-about-sebastopol-reniassance-faire-08-28-2012-8818
END:VEVENT

END:VCALENDAR
