BEGIN:VCALENDAR
VERSION:2.0
PRODID:-//ChamberMaster//Event Calendar 2.0//EN
METHOD:PUBLISH
X-PUBLISHED-TTL:P3D
REFRESH-INTERVAL:P3D
CALSCALE:GREGORIAN
BEGIN:VEVENT
DTSTART:20150816T030000Z
DTEND:20150816T050000Z
X-MICROSOFT-CDO-ALLDAYEVENT:FALSE
SUMMARY:New West Guitar Group
DESCRIPTION:The New West Guitar Group (NWGG) is coming back to OCA for the second time! NWGG has developed a wide spread reputation as one of the premier guitar ensembles in the world. The trio\, which blossomed out of USC’s Thornton School of Music ten years ago\, is currently composed of Perry Smith (NYC)\, John Storie ( L.A.)\, and Will Brahm (L.A.). Performing classic pop covers\, jazz standards and exciting originals encompassing every genre from folk\, rock\, classical\, jazz\, blues and more\, NWGG combines laid-back virtuosity and innovative arrangements of both acoustic and electric guitar to create their signature sound. www.newwestguitar.com.
X-ALT-DESC;FMTTYPE=text/html:The New West Guitar Group (NWGG) is coming back to OCA for the second time! NWGG has developed a wide spread reputation as one of the premier guitar ensembles in the world. The trio\, which blossomed out of USC’s Thornton School of Music ten years ago\, is currently composed of Perry Smith (NYC)\, John Storie ( L.A.)\, and Will Brahm (L.A.). Performing classic pop covers\, jazz standards and exciting originals encompassing every genre from folk\, rock\, classical\, jazz\, blues and more\, NWGG combines laid-back virtuosity and innovative arrangements of both acoustic and electric guitar to create their signature sound. www.newwestguitar.com.
LOCATION:Occidental Center for the Arts
UID:e.3189.5042564
SEQUENCE:3
DTSTAMP:20260419T223421Z
URL:https://business.sebastopol.org/events/details/new-west-guitar-group-08-15-2015-5042564
END:VEVENT

END:VCALENDAR
