BEGIN:VCALENDAR
VERSION:2.0
PRODID:-//ChamberMaster//Event Calendar 2.0//EN
METHOD:PUBLISH
X-PUBLISHED-TTL:P3D
REFRESH-INTERVAL:P3D
CALSCALE:GREGORIAN
BEGIN:VEVENT
DTSTART:20150812T023000Z
DTEND:20150812T053000Z
X-MICROSOFT-CDO-ALLDAYEVENT:FALSE
SUMMARY:North Bay Live Presents Jimmy LaFave
DESCRIPTION:Jimmy LaFave (born July 12\, 1955) is an American singer-songwriter and folk musician born in Wills Point\, Texas. After moving to Stillwater\, Oklahoma\, LaFave crafted a musical style called Red Dirt music and became a disciple of the state's most famous folk musician: Woody Guthrie. LaFave is an Advisory Board member and regular performer at the annual Woody Guthrie Folk Festival. In 1996 he received the Kerrville Folk Festival songwriter of the year award and appeared on the TV show Austin City Limits. He has recorded 15 albums and his 2007 release\, Cimarron Manifesto\, reached the No. 1 mark on the Americana Music Association album chart.DOORS 7:00 / CONCERT 7:30\n $25 ADVANCE / $27 AT THE DOORAdvanced tickets are now on sale and can be purchased at:The Last Record Store in Santa Rosa (1899 Mendocino Avenue — just north of SRJC).  There is a $1.00 per ticket service charge.ANDAt Sunnyside Cottage in Santa Rosa (599 Montecito Center\, next to Oliver’s Market).  (No service charge.)*this is not an OCA sponsored event\, therefore not eligible for membership discounts.
X-ALT-DESC;FMTTYPE=text/html:<!--  Visual Designer HTML --><p><b>Jimmy LaFave</b> (born July 12\, 1955) is an American singer-songwriter and folk musician born in <a title="Wills Point\, Texas" href="https://en.wikipedia.org/wiki/Wills_Point\,_Texas">Wills Point\, Texas</a>. After moving to <a title="Stillwater\, Oklahoma" href="https://en.wikipedia.org/wiki/Stillwater\,_Oklahoma">Stillwater\, Oklahoma</a>\, LaFave crafted a musical style called <a title="Red Dirt (music)" href="https://en.wikipedia.org/wiki/Red_Dirt_(music)">Red Dirt music</a> and became a disciple of the state&#39\;s most famous folk musician:&nbsp\;<a title="Woody Guthrie" href="https://en.wikipedia.org/wiki/Woody_Guthrie">Woody Guthrie</a>. LaFave is an Advisory Board member and regular performer at the annual <a title="Woody Guthrie Folk Festival" href="https://en.wikipedia.org/wiki/Woody_Guthrie_Folk_Festival">Woody Guthrie Folk Festival</a>. In 1996 he received the <a title="Kerrville Folk Festival" href="https://en.wikipedia.org/wiki/Kerrville_Folk_Festival">Kerrville Folk Festival</a> songwriter of the year award and appeared on the TV show <a title="Austin City Limits" href="https://en.wikipedia.org/wiki/Austin_City_Limits">Austin City Limits</a>. He has recorded 15 albums and his 2007 release\, <i><a title="Cimarron Manifesto" href="https://en.wikipedia.org/wiki/Cimarron_Manifesto">Cimarron Manifesto</a></i>\, reached the No. 1 mark on the Americana Music Association album chart.</p><h3 style="text-align: center"><span style="color: #333333">DOORS 7:00&nbsp\;/ CONCERT 7:30</span><br /><span style="color: #333333"> $25 ADVANCE / $27 AT THE DOOR</span></h3><p style="text-align: center"><span style="color: #333333"><strong>Advanced tickets are now on sale and can be purchased at:</strong></span></p><p style="text-align: center"><strong>The&nbsp\;<span style="font-size: small"><span style="color: #0033cc\; font-size: large"><a href="http://www.thelastrecordstore.com/"><span style="color: #0066cc">Last Record Store</span></a> </span></span>in Santa Rosa (1899 Mendocino Avenue — just north of SRJC).&nbsp\; There is a $1.00 per ticket service charge.</strong></p><p style="text-align: center"><strong>AND</strong></p><p style="text-align: center"><strong>At <span style="font-size: small"><span style="color: #0066cc\; font-size: large"><a href="http://sunnysidecottagegifts.com/index.php?page=home" target="_blank"><span style="color: #993366">Sunnyside Cottage</span></a></span> </span>in Santa Rosa <span style="color: #0000ff"><span style="color: #333333">(599 Montecito Center\, next to Oliver’s Market).&nbsp\; (No service charge.)</span></span></strong></p><p>*this is not an OCA sponsored event\, therefore not eligible for membership discounts.&nbsp\;</p>
LOCATION:Occidental Center for the Arts3850 DORIS MURPHY COURTlocated at the intersection of Bohemian Hwy. at Graton Rd. in Occidental\, California
UID:e.3189.5042683
SEQUENCE:3
DTSTAMP:20260419T210536Z
URL:https://business.sebastopol.org/events/details/north-bay-live-presents-jimmy-lafave-08-11-2015-5042683
END:VEVENT

END:VCALENDAR
