BEGIN:VCALENDAR
VERSION:2.0
PRODID:-//ChamberMaster//Event Calendar 2.0//EN
METHOD:PUBLISH
X-PUBLISHED-TTL:P3D
REFRESH-INTERVAL:P3D
CALSCALE:GREGORIAN
BEGIN:VEVENT
DTSTART:20121203T033000Z
DTEND:20121203T060000Z
X-MICROSOFT-CDO-ALLDAYEVENT:FALSE
SUMMARY:Northbay Poety Slam
DESCRIPTION:The Northbay Poetry Slam\, hosted every first sunday of the month at Hopmonk Tavern is the perfect supporting atmosphere for talents of all ages and all experience levels.   The Northbay Poetry Slam is the only monthly slam hosted in Sonoma County. Every month brings out more fresh & talented poets\, ranging from poets on a national level\, to former Northbay Slam winners\, to poets fresh to the stage.   Including a featured artist EVERY month. Always promising to bring their best\, and their best is always something worth seeing! So come out and support your local talent\, because it is certainly worth it.   NORTHBAY POETRY SLAM Hosted by Brianna Sage   1st SUNDAY of Every Month   7pm - Doors/Sign ups 7:30pm - Open Mic 8pm - Feature 8:30pm - Slam   ALL AGES CASH PRIZES   5$ COVER
X-ALT-DESC;FMTTYPE=text/html:The Northbay Poetry Slam\, hosted every first sunday of the month at Hopmonk Tavern is the perfect supporting atmosphere for talents of all ages and all experience levels.   The Northbay Poetry Slam is the only monthly slam hosted in Sonoma County. Every month brings out more fresh & talented poets\, ranging from poets on a national level\, to former Northbay Slam winners\, to poets fresh to the stage.   Including a featured artist EVERY month. Always promising to bring their best\, and their best is always something worth seeing! So come out and support your local talent\, because it is certainly worth it.   NORTHBAY POETRY SLAM Hosted by Brianna Sage   1st SUNDAY of Every Month   7pm - Doors/Sign ups 7:30pm - Open Mic 8pm - Feature 8:30pm - Slam   ALL AGES CASH PRIZES   5$ COVER
LOCATION:Hopmonk Tavern
UID:e.3189.8762
SEQUENCE:3
DTSTAMP:20260422T040631Z
URL:https://business.sebastopol.org/events/details/northbay-poety-slam-12-02-2012-8762
END:VEVENT

END:VCALENDAR
