BEGIN:VCALENDAR
VERSION:2.0
PRODID:-//ChamberMaster//Event Calendar 2.0//EN
METHOD:PUBLISH
X-PUBLISHED-TTL:P3D
REFRESH-INTERVAL:P3D
CALSCALE:GREGORIAN
BEGIN:VEVENT
DTSTART:20150614T190000Z
DTEND:20150614T220000Z
X-MICROSOFT-CDO-ALLDAYEVENT:FALSE
SUMMARY:Nurturing Your Connection to Yourself and Others
DESCRIPTION:Practicing Breema allows you to experience connection to yourself as you support others\, and receive a taste of relaxed aliveness in the present moment. Working with body-mind connection and the Nine Principles of Harmony\, we learn a new way of being that we can bring to our daily life.\n\nIn this workshop you'll learn self-care exercises to revitalize and balance body\, mind\, and emotions\, and partner bodywork that nurtures and energizes both giver and receiver.\n\nThe workshop will be taught by Cathrina Susoev\, Micki Meredith\, and Laura Rawson\, Certified Breema Instructors with many years of experience.\n\nNo experience needed\, but please be comfortable kneeling and working on a padded floor. CE available for bodyworkers and massage therapists.\n\nTo learn more about Breema\, go to our webpage\, visit our Facebook page\, or watch our videos on YouTube on The Breema Channel.
X-ALT-DESC;FMTTYPE=text/html:Practicing Breema allows you to experience connection to yourself as you support others\, and receive a taste of relaxed aliveness in the present moment. Working with body-mind connection and the Nine Principles of Harmony\, we learn a new way of being that we can bring to our daily life.\n\nIn this workshop you'll learn self-care exercises to revitalize and balance body\, mind\, and emotions\, and partner bodywork that nurtures and energizes both giver and receiver.\n\nThe workshop will be taught by Cathrina Susoev\, Micki Meredith\, and Laura Rawson\, Certified Breema Instructors with many years of experience.\n\nNo experience needed\, but please be comfortable kneeling and working on a padded floor. CE available for bodyworkers and massage therapists.\n\nTo learn more about Breema\, go to our webpage\, visit our Facebook page\, or watch our videos on YouTube on The Breema Channel.
LOCATION:Devi Yoga Center\, 7151 Wilton Avenue\, Sebastopol\, CA 95472
UID:e.3189.5042488
SEQUENCE:3
DTSTAMP:20260420T021524Z
URL:https://business.sebastopol.org/events/details/nurturing-your-connection-to-yourself-and-others-06-14-2015-5042488
END:VEVENT

END:VCALENDAR
