BEGIN:VCALENDAR
VERSION:2.0
PRODID:-//ChamberMaster//Event Calendar 2.0//EN
METHOD:PUBLISH
X-PUBLISHED-TTL:P3D
REFRESH-INTERVAL:P3D
CALSCALE:GREGORIAN
BEGIN:VEVENT
DTSTART:20170501T223000Z
DTEND:20170502T010000Z
X-MICROSOFT-CDO-ALLDAYEVENT:FALSE
SUMMARY:NVC Non Violent Communication Introductory Talk
DESCRIPTION:Living from our head supports access to internal voices that can be critical. These self-judgments increase stress\, fear\, doubt\, and even depression. Alternatively\, living from our heart supports self-connection\, love\, clarity about our needs\, and connection with others. Come explore ways to live from your heart-especially when under attack.\n\n- Reduce conflict in your relationships - Release shame\, guilt & depression\n- Express yourself clearly & authentically – Make decisions with ease & grace\n\nYour facilitator\, Terri Moon M.S. graduated from the Bay Area Nonviolent Communication (NVC) Leadership Program in 2005\, has taught NVC on four continents around the world\, and has facilitated this format regularly since 1996. Terri offers trainings\, mediation\, and coaching in person and via Skype\, and has offered healing in a wide variety of forms since 1987.
X-ALT-DESC;FMTTYPE=text/html:<!--  Visual Designer HTML --><span style="color: #4b4f56\;font-family:San Francisco\, -apple-system\, BlinkMacSystemFont\, .SFNSText-Regular\, sans-serif\; font-size: 14px\; letter-spacing: -0.23999999463558197px\; background-color: #ffffff">Living from our head supports access to internal voices that can be critical. These self-judgments increase stress\, fear\, doubt\, and even depression. Alternatively\, living from our heart supports self-connection\, love\, clarity about our needs\, and connection with others. Come explore ways to live from your heart-especially when under attack.</span><br style="color: #4b4f56\;font-family:San Francisco\, -apple-system\, BlinkMacSystemFont\, .SFNSText-Regular\, sans-serif\; font-size: 14px\; letter-spacing: -0.23999999463558197px" /><br style="color: #4b4f56\;font-family:San Francisco\, -apple-system\, BlinkMacSystemFont\, .SFNSText-Regular\, sans-serif\; font-size: 14px\; letter-spacing: -0.23999999463558197px" /><span style="color: #4b4f56\;font-family:San Francisco\, -apple-system\, BlinkMacSystemFont\, .SFNSText-Regular\, sans-serif\; font-size: 14px\; letter-spacing: -0.23999999463558197px\; background-color: #ffffff">- Reduce conflict in your relationships - Release shame\, guilt &amp\; depression</span><br style="color: #4b4f56\;font-family:San Francisco\, -apple-system\, BlinkMacSystemFont\, .SFNSText-Regular\, sans-serif\; font-size: 14px\; letter-spacing: -0.23999999463558197px" /><span style="color: #4b4f56\;font-family:San Francisco\, -apple-system\, BlinkMacSystemFont\, .SFNSText-Regular\, sans-serif\; font-size: 14px\; letter-spacing: -0.23999999463558197px\; background-color: #ffffff">- Express yourself clearly &amp\; authentically – Make decisions with ease &amp\; grace</span><br style="color: #4b4f56\;font-family:San Francisco\, -apple-system\, BlinkMacSystemFont\, .SFNSText-Regular\, sans-serif\; font-size: 14px\; letter-spacing: -0.23999999463558197px" /><br style="color: #4b4f56\;font-family:San Francisco\, -apple-system\, BlinkMacSystemFont\, .SFNSText-Regular\, sans-serif\; font-size: 14px\; letter-spacing: -0.23999999463558197px" /><span style="color: #4b4f56\;font-family:San Francisco\, -apple-system\, BlinkMacSystemFont\, .SFNSText-Regular\, sans-serif\; font-size: 14px\; letter-spacing: -0.23999999463558197px\; background-color: #ffffff">Your facilitator\, Terri Moon M.S. graduated from the Bay Area Nonviolent Communication (NVC) Leadership Program in 2005\, has taught NVC on four continents around the world\, and has facilitated this format regularly since 1996. Terri offers trainings\, mediation\, and coaching in person and via Skype\, and has offered healing in a wide variety of forms since 1987.</span>
LOCATION:Jupiter Moon ArtMid Town Sebastopol507 S Main StreetSebastopol CA 95472
UID:e.3189.5044703
SEQUENCE:3
DTSTAMP:20260424T101659Z
URL:https://business.sebastopol.org/events/details/nvc-non-violent-communication-introductory-talk-05-01-2017-5044703
END:VEVENT

END:VCALENDAR
