BEGIN:VCALENDAR
VERSION:2.0
PRODID:-//ChamberMaster//Event Calendar 2.0//EN
METHOD:PUBLISH
X-PUBLISHED-TTL:P3D
REFRESH-INTERVAL:P3D
CALSCALE:GREGORIAN
BEGIN:VEVENT
DTSTART:20150411T160000Z
DTEND:20150412T120000Z
X-MICROSOFT-CDO-ALLDAYEVENT:FALSE
SUMMARY:Occidental Arts & Ecology -Spring Plant Sale & Tour
DESCRIPTION:The Occidental Arts and Ecology Center will hold its annual Spring Plant Sale fundraiser on Saturday\, April 11 and Sunday\, April 12. Plant Sale hours are 9am - 5pm. Admission is free.  We will be selling hundreds of open-pollinated\, heirloom and rare varieties - an even wider selection than ever before! All are California Certified Organic - many started from our own seed collection - and have been trialed\, tasted\, and savored for years in our demonstration gardens and kitchen.  This sale features early Spring crops such as lettuces\, peas\, broccoli\, kale\, cabbage\, chards\, onions\, leeks\, and herbs. We will also offer a wide array of perennial food crops\, medicinal and culinary herbs and permaculture plants as well as many plants of ethnobotanical interest from around the world. Please see www.oaec.org  for a detailed list.  The OAEC garden staff will be on hand to tell you about our diverse selections.  A one-hour tour of the gardens will be offered on Sunday\, April 12 at 1 pm.     Plant sale will be held RAIN OR SHINE!
X-ALT-DESC;FMTTYPE=text/html:The Occidental Arts and Ecology Center will hold its annual Spring Plant Sale fundraiser on Saturday\, April 11 and Sunday\, April 12. Plant Sale hours are 9am - 5pm. Admission is free.  We will be selling hundreds of open-pollinated\, heirloom and rare varieties - an even wider selection than ever before! All are California Certified Organic - many started from our own seed collection - and have been trialed\, tasted\, and savored for years in our demonstration gardens and kitchen.  This sale features early Spring crops such as lettuces\, peas\, broccoli\, kale\, cabbage\, chards\, onions\, leeks\, and herbs. We will also offer a wide array of perennial food crops\, medicinal and culinary herbs and permaculture plants as well as many plants of ethnobotanical interest from around the world. Please see www.oaec.org <http://www.oaec.org> for a detailed list.  The OAEC garden staff will be on hand to tell you about our diverse selections.  A one-hour tour of the gardens will be offered on Sunday\, April 12 at 1 pm.     Plant sale will be held RAIN OR SHINE!
LOCATION:15290 Coleman Valley Road • Occidental\, CA 95465
UID:e.3189.32076
SEQUENCE:3
DTSTAMP:20260420T041103Z
URL:https://business.sebastopol.org/events/details/occidental-arts-ecology-spring-plant-sale-tour-04-11-2015-32076
END:VEVENT

END:VCALENDAR
