BEGIN:VCALENDAR
VERSION:2.0
PRODID:-//ChamberMaster//Event Calendar 2.0//EN
METHOD:PUBLISH
X-PUBLISHED-TTL:P3D
REFRESH-INTERVAL:P3D
CALSCALE:GREGORIAN
BEGIN:VEVENT
DTSTART:20150425T160000Z
DTEND:20150426T120000Z
X-MICROSOFT-CDO-ALLDAYEVENT:FALSE
SUMMARY:Occidental Arts & Ecology -Spring Plant Sale & Tour
DESCRIPTION:The Occidental Arts and Ecology Center will hold its annual Summer Plant Sale fundraiser on Saturday\, April 25 and Sunday\, April 26. Plant Sale hours are 9am - 5pm. Admission is free. There will also be a Plant Sale the following weekend\, May 2 & 3\, also 9am ­- 5pm.  We'll be selling hundreds of open-pollinated\, heirloom\, and rare varieties - an even more spectacular selection than ever before! All are California Certified Organic - many started from our own seed collection - and have been trialed\, tasted\, and savored for years in our demonstration gardens and kitchen.  This plant sale focuses on the warm season summer crops such as tomatoes\, basil\, summer and winter squash\, pumpkins\, hot and sweet peppers\, eggplants\, beans\, melons\, cucumbers and gourds. We will also feature a wide array of perennial food crops and permaculture plants\, culinary and medicinal herbs as well as traditional food crops of the Andes\, such as yacon\, kiwicha\, quinoa\, mashua\, oca\, pepino\, and Cape gooseberry. See www.oaec.org  for a detailed list.  The OAEC garden staff will be on hand to tell you about our diverse selections.  A one-hour tour will be offered at 1 pm on Sunday\, April 26.  Plant sale will be held RAIN OR SHINE!
X-ALT-DESC;FMTTYPE=text/html:The Occidental Arts and Ecology Center will hold its annual Summer Plant Sale fundraiser on Saturday\, April 25 and Sunday\, April 26. Plant Sale hours are 9am - 5pm. Admission is free. There will also be a Plant Sale the following weekend\, May 2 & 3\, also 9am ­- 5pm.  We'll be selling hundreds of open-pollinated\, heirloom\, and rare varieties - an even more spectacular selection than ever before! All are California Certified Organic - many started from our own seed collection - and have been trialed\, tasted\, and savored for years in our demonstration gardens and kitchen.  This plant sale focuses on the warm season summer crops such as tomatoes\, basil\, summer and winter squash\, pumpkins\, hot and sweet peppers\, eggplants\, beans\, melons\, cucumbers and gourds. We will also feature a wide array of perennial food crops and permaculture plants\, culinary and medicinal herbs as well as traditional food crops of the Andes\, such as yacon\, kiwicha\, quinoa\, mashua\, oca\, pepino\, and Cape gooseberry. See www.oaec.org <http://www.oaec.org> for a detailed list.  The OAEC garden staff will be on hand to tell you about our diverse selections.  A one-hour tour will be offered at 1 pm on Sunday\, April 26.  Plant sale will be held RAIN OR SHINE!
LOCATION:15290 Coleman Valley Road • Occidental\, CA 95465
UID:e.3189.32079
SEQUENCE:3
DTSTAMP:20260420T055719Z
URL:https://business.sebastopol.org/events/details/occidental-arts-ecology-spring-plant-sale-tour-04-25-2015-32079
END:VEVENT

END:VCALENDAR
