BEGIN:VCALENDAR
VERSION:2.0
PRODID:-//ChamberMaster//Event Calendar 2.0//EN
METHOD:PUBLISH
X-PUBLISHED-TTL:P3D
REFRESH-INTERVAL:P3D
CALSCALE:GREGORIAN
BEGIN:VEVENT
DTSTART:20150502T195400Z
DTEND:20150510T195400Z
X-MICROSOFT-CDO-ALLDAYEVENT:FALSE
SUMMARY:Occidental Community Choir 2015 Spring Concert
DESCRIPTION:May 2 - 10.  The Occidental Community Choir  2015 Spring Concerts: "Riding the Waves"\, directed by Andrew DelMonte. Enjoy an eclectic choral concert of lyrical\, heartfelt songs that will take you on a journey from the silly to the sublime. Going strong in it's 36th season\, most of the choir's repertoire includes original songs written by choir members past and present. This up-lifting concert also features rousing spirituals\, gospel tunes and classic songs sung in Spanish\, Italian and Bulgarian\; with some Cole Porter and Beatles added to the mix. Experience this unique Sonoma County choral community\, and enjoy some "Music from Home"! Tickets available at door or OccidentalChoir.org  . Adults - $15. Children 12 & under Free. Advance tickets recommended. May 2\,8\,9 at Occidental Center for the Arts. May 3 at Sebastopol Center for the Arts. May 10 at Glaser Center. Friday/Saturday concerts 8 pm. Sunday concerts 3 pm.
X-ALT-DESC;FMTTYPE=text/html:May 2 - 10.  The Occidental Community Choir  2015 Spring Concerts: "Riding the Waves"\, directed by Andrew DelMonte. Enjoy an eclectic choral concert of lyrical\, heartfelt songs that will take you on a journey from the silly to the sublime. Going strong in it's 36th season\, most of the choir's repertoire includes original songs written by choir members past and present. This up-lifting concert also features rousing spirituals\, gospel tunes and classic songs sung in Spanish\, Italian and Bulgarian\; with some Cole Porter and Beatles added to the mix. Experience this unique Sonoma County choral community\, and enjoy some "Music from Home"! Tickets available at door or OccidentalChoir.org <http://OccidentalChoir.org> . Adults - $15. Children 12 & under Free. Advance tickets recommended. May 2\,8\,9 at Occidental Center for the Arts. May 3 at Sebastopol Center for the Arts. May 10 at Glaser Center. Friday/Saturday concerts 8 pm. Sunday concerts 3 pm.
LOCATION:Various Locations and dates- See Below for your favorite..
UID:e.3189.32530
SEQUENCE:3
DTSTAMP:20260420T022437Z
URL:https://business.sebastopol.org/events/details/occidental-community-choir-2015-spring-concert-05-02-2015-32530
END:VEVENT

END:VCALENDAR
