BEGIN:VCALENDAR
VERSION:2.0
PRODID:-//ChamberMaster//Event Calendar 2.0//EN
METHOD:PUBLISH
X-PUBLISHED-TTL:P3D
REFRESH-INTERVAL:P3D
CALSCALE:GREGORIAN
BEGIN:VEVENT
DTSTART:20141214T040000Z
DTEND:20141214T070000Z
X-MICROSOFT-CDO-ALLDAYEVENT:FALSE
SUMMARY:Occidental Community Choir - Winter Concerts
DESCRIPTION:I DREAMED OF RAIN\, director - Andrew DelMonte.\nAdults - $15\nKids 12 and under - Free\nTickets avaiable at the door or at OccidentalChoir.org\nAdvanced tickets recommended. Concerts sell out.
X-ALT-DESC;FMTTYPE=text/html:I DREAMED OF RAIN\, director - Andrew DelMonte.\nAdults - $15\nKids 12 and under - Free\nTickets avaiable at the door or at OccidentalChoir.org\nAdvanced tickets recommended. Concerts sell out.
LOCATION:Occidental Center for the Arts 3850 Doris Murphy Court Occidenatl\, CA 95465
UID:e.3189.27604
SEQUENCE:3
DTSTAMP:20260420T101227Z
URL:https://business.sebastopol.org/events/details/occidental-community-choir-winter-concerts-12-13-2014-27604
END:VEVENT

END:VCALENDAR
