BEGIN:VCALENDAR
VERSION:2.0
PRODID:-//ChamberMaster//Event Calendar 2.0//EN
METHOD:PUBLISH
X-PUBLISHED-TTL:P3D
REFRESH-INTERVAL:P3D
CALSCALE:GREGORIAN
BEGIN:VEVENT
DTSTART:20141214T230000Z
DTEND:20141215T010000Z
X-MICROSOFT-CDO-ALLDAYEVENT:FALSE
SUMMARY:Occidental Community Choir - Winter Concerts
DESCRIPTION:I DREAMED OF RAIN\, director - Andrew DelMonte. Adults - $15 Kids 12 and under - Free Tickets avaiable at the door or at OccidentalChoir.org Advanced tickets recommended. Concerts sell out.
X-ALT-DESC;FMTTYPE=text/html:I DREAMED OF RAIN\, director - Andrew DelMonte. Adults - $15 Kids 12 and under - Free Tickets avaiable at the door or at OccidentalChoir.org Advanced tickets recommended. Concerts sell out.
LOCATION:Glaser Center 547 Mendocino Avenue Santa Rosa\, CA 95401
UID:e.3189.27607
SEQUENCE:3
DTSTAMP:20260420T101238Z
URL:https://business.sebastopol.org/events/details/occidental-community-choir-winter-concerts-12-14-2014-27607
END:VEVENT

END:VCALENDAR
