BEGIN:VCALENDAR
VERSION:2.0
PRODID:-//ChamberMaster//Event Calendar 2.0//EN
METHOD:PUBLISH
X-PUBLISHED-TTL:P3D
REFRESH-INTERVAL:P3D
CALSCALE:GREGORIAN
BEGIN:VEVENT
DTSTART:20141208T040000Z
DTEND:20141208T070000Z
X-MICROSOFT-CDO-ALLDAYEVENT:FALSE
SUMMARY:Occidental Communty Choir - Winter Concerts
DESCRIPTION:I DREAMED OF RAIN\, director - Andrew DelMonte.\nAdults - $15\nKids 12 and under - Free\nTickets avaiable at the door or at OccidentalChoir.org\nAdvanced tickets recommended. Concerts sell out.
X-ALT-DESC;FMTTYPE=text/html:I DREAMED OF RAIN\, director - Andrew DelMonte.\nAdults - $15\nKids 12 and under - Free\nTickets avaiable at the door or at OccidentalChoir.org\nAdvanced tickets recommended. Concerts sell out.
LOCATION:Sebastopol Center for the Arts 282 South High Street Sebastopol\, CA 95472
UID:e.3189.27598
SEQUENCE:3
DTSTAMP:20260420T101124Z
URL:https://business.sebastopol.org/events/details/occidental-communty-choir-winter-concerts-12-07-2014-27598
END:VEVENT

END:VCALENDAR
