BEGIN:VCALENDAR
VERSION:2.0
PRODID:-//ChamberMaster//Event Calendar 2.0//EN
METHOD:PUBLISH
X-PUBLISHED-TTL:P3D
REFRESH-INTERVAL:P3D
CALSCALE:GREGORIAN
BEGIN:VEVENT
DTSTART:20141003T003000Z
DTEND:20141003T050000Z
X-MICROSOFT-CDO-ALLDAYEVENT:FALSE
SUMMARY:October in Paradise Harvest for the Homeless
DESCRIPTION:Join us for the 20th annual October in Paradise dinner\, with fine wines\, gourmet appetizers and desserts\, live music\, live and silent auctions\, and one of the most beautiful views in Sonoma County\, from Paradise Ridge Winery\, above  the Santa Rosa Valley.  Amazing finds on vacations getaways\, quality wines\, beautiful B&B’s\, fine art and unique treasures\, many that you can get for a steal.  Original Music by Maury Manseau & Cheri Buonaguidi\, and Jazz with a Twist by Brulée.  This Harvest for the Homeless benefits the Sonoma County Task Force for the Homeless.
X-ALT-DESC;FMTTYPE=text/html:Join us for the 20th annual October in Paradise dinner\, with fine wines\, gourmet appetizers and desserts\, live music\, live and silent auctions\, and one of the most beautiful views in Sonoma County\, from Paradise Ridge Winery\, above  the Santa Rosa Valley.  Amazing finds on vacations getaways\, quality wines\, beautiful B&B’s\, fine art and unique treasures\, many that you can get for a steal.  Original Music by Maury Manseau & Cheri Buonaguidi\, and Jazz with a Twist by Brulée.  This Harvest for the Homeless benefits the Sonoma County Task Force for the Homeless.
LOCATION:Paradise Ridge Winery 4545 Thomas Lake Harris Drive Santa Rosa\, CA 95403
UID:e.3189.5041560
SEQUENCE:3
DTSTAMP:20260419T134243Z
URL:https://business.sebastopol.org/events/details/october-in-paradise-harvest-for-the-homeless-10-02-2014-5041560
END:VEVENT

END:VCALENDAR
