BEGIN:VCALENDAR
VERSION:2.0
PRODID:-//ChamberMaster//Event Calendar 2.0//EN
METHOD:PUBLISH
X-PUBLISHED-TTL:P3D
REFRESH-INTERVAL:P3D
CALSCALE:GREGORIAN
BEGIN:VEVENT
DTSTART:20150619T233000Z
DTEND:20150620T040000Z
X-MICROSOFT-CDO-ALLDAYEVENT:FALSE
SUMMARY:OLD GROVE FESTIVAL
DESCRIPTION:September 19\, 2015\nHEADLINER - Hot Buttered Rum\nOPENER - One Grass Two Grass \n\nTickets on Sale Now\n\nThe Annual Old Grove Festival takes place at the historic Redwood Forest Theater in Armstrong Redwoods SNR in September. This beautiful open-air theatre was built in the 1930s. Concerts and theatrical events took place there for decades until the theater was closed in the 1980s out of concern for natural resource protection. In 2006\, the theater was reopened for limited use. Event reservations are limited to alleviate environmental impacts and due to parking limitations.\n\nThe Old Grove Festival features an outstanding variety of musical and theatrical productions that help Stewards raise funds to support our educational and stewardship programs\, as well as\, continued advocacy for ALL State Parks.
X-ALT-DESC;FMTTYPE=text/html:September 19\, 2015\nHEADLINER - Hot Buttered Rum\nOPENER - One Grass Two Grass \n\nTickets on Sale Now\n\nThe Annual Old Grove Festival takes place at the historic Redwood Forest Theater in Armstrong Redwoods SNR in September. This beautiful open-air theatre was built in the 1930s. Concerts and theatrical events took place there for decades until the theater was closed in the 1980s out of concern for natural resource protection. In 2006\, the theater was reopened for limited use. Event reservations are limited to alleviate environmental impacts and due to parking limitations.\n\nThe Old Grove Festival features an outstanding variety of musical and theatrical productions that help Stewards raise funds to support our educational and stewardship programs\, as well as\, continued advocacy for ALL State Parks.
LOCATION:Armstrong Woods State Park
UID:e.3189.5042570
SEQUENCE:3
DTSTAMP:20260420T021810Z
URL:https://business.sebastopol.org/events/details/old-grove-festival-06-19-2015-5042570
END:VEVENT

END:VCALENDAR
