BEGIN:VCALENDAR
VERSION:2.0
PRODID:-//ChamberMaster//Event Calendar 2.0//EN
METHOD:PUBLISH
X-PUBLISHED-TTL:P3D
REFRESH-INTERVAL:P3D
CALSCALE:GREGORIAN
BEGIN:VEVENT
DTSTART:20130427T170000Z
DTEND:20130428T230000Z
X-MICROSOFT-CDO-ALLDAYEVENT:FALSE
SUMMARY:Open House at Luther Burbank's Experiment Farm
DESCRIPTION:Add unusual plants to your garden from our plant sale.  Take a docent-led tour\, see the exhibit of the history of the farm in the cottage.  Free!
X-ALT-DESC;FMTTYPE=text/html:Add unusual plants to your garden from our plant sale.  Take a docent-led tour\, see the exhibit of the history of the farm in the cottage.  Free!
LOCATION:7777 Bodega Ave. Sebastopol
UID:e.3189.5040494
SEQUENCE:3
DTSTAMP:20260421T234204Z
URL:https://business.sebastopol.org/events/details/open-house-at-luther-burbank-s-experiment-farm-04-27-2013-5040494
END:VEVENT

END:VCALENDAR
