BEGIN:VCALENDAR
VERSION:2.0
PRODID:-//ChamberMaster//Event Calendar 2.0//EN
METHOD:PUBLISH
X-PUBLISHED-TTL:P3D
REFRESH-INTERVAL:P3D
CALSCALE:GREGORIAN
BEGIN:VEVENT
DTSTART:20151113T000000Z
DTEND:20151113T023000Z
X-MICROSOFT-CDO-ALLDAYEVENT:FALSE
SUMMARY:Open House & Volunteer Recognition
DESCRIPTION:The American Cancer Society\nis hosting an open house and volunteer recognition on Thursday\, November 12\, 2015 from 4:00 pm to 6:30 pm at the local American Cancer Society office located at 1451 Guerneville Road\, Ste. 220\, in Santa Rosa.  Festivities will include refreshments and inspirational speakers\, and volunteers will be available to share their experiences with newcomers.  Prospective volunteers can learn about the many opportunities to make a difference.RSVP 707-545-6728
X-ALT-DESC;FMTTYPE=text/html:<!--  Visual Designer HTML --><p style="line-height:150%"><span style="font-size:11.0pt\;line-height:150%">T</span>he American Cancer Society\nis hosting an open house and volunteer recognition on Thursday\, November 12\, 2015<i> </i>from 4:00 pm to 6:30 pm at the local American Cancer Society office located at 1451 Guerneville Road\, Ste. 220\, in Santa Rosa. &nbsp\;Festivities will include refreshments and inspirational speakers\, and volunteers will be available to share their experiences with newcomers.&nbsp\; Prospective volunteers can learn about the many opportunities to make a difference.</p><p>RSVP 707-545-6728&nbsp\;</p>
LOCATION:American Cancer Society1451 Guerneville Rd Ste 220Santa Rosa CA 95403
UID:e.3189.5042918
SEQUENCE:3
DTSTAMP:20260419T161310Z
URL:https://business.sebastopol.org/events/details/open-house-volunteer-recognition-11-12-2015-5042918
END:VEVENT

END:VCALENDAR
