BEGIN:VCALENDAR
VERSION:2.0
PRODID:-//ChamberMaster//Event Calendar 2.0//EN
METHOD:PUBLISH
X-PUBLISHED-TTL:P3D
REFRESH-INTERVAL:P3D
CALSCALE:GREGORIAN
BEGIN:VEVENT
DTSTART:20150904T230000Z
DTEND:20150905T010000Z
X-MICROSOFT-CDO-ALLDAYEVENT:FALSE
SUMMARY:Opening Day of Religious School and Dinner
DESCRIPTION:Join Congregation Beth Ami for the opening day of our new religious school. Classes start on September 4 and will be held on Fridays 4-6 PM (grades PK-6) and Tuesdays 4-6 PM (grades 4-8). Opening day of classes is followed by a community Shabbat dinner with live music from 6-7:30. FREE for registered students and their families with RSVP.New Shabbat immersion curriculum and a schedule that liberates your Sundays for family time. New faculty and Director.Contact DIrector of Youth Education Anya Por for information and RSVPs. 707-360-3012 or rs@bethamisr.org.
X-ALT-DESC;FMTTYPE=text/html:<!--  Visual Designer HTML -->Join Congregation Beth Ami for the opening day of our new religious school. Classes start on September 4 and will be held on Fridays 4-6 PM (grades PK-6) and Tuesdays 4-6 PM (grades 4-8). Opening day of classes is followed by a community Shabbat dinner with live music from 6-7:30. FREE for registered students and their families with RSVP.<p>New Shabbat immersion curriculum and a schedule that liberates your Sundays for family time. New faculty and Director.</p><p>Contact DIrector of Youth Education Anya Por for information and RSVPs. 707-360-3012 or rs@bethamisr.org.&nbsp\;</p>
LOCATION:Congregation Beth Ami 4676 Mayette Ave.\, Santa Rosa\, CA 95405 707-360-3012 bethamisr.org
UID:e.3189.5042768
SEQUENCE:3
DTSTAMP:20260419T210535Z
URL:https://business.sebastopol.org/events/details/opening-day-of-religious-school-and-dinner-09-04-2015-5042768
END:VEVENT

END:VCALENDAR
