BEGIN:VCALENDAR
VERSION:2.0
PRODID:-//ChamberMaster//Event Calendar 2.0//EN
METHOD:PUBLISH
X-PUBLISHED-TTL:P3D
REFRESH-INTERVAL:P3D
CALSCALE:GREGORIAN
BEGIN:VEVENT
DTSTART:20150529T200000Z
DTEND:20150530T010000Z
X-MICROSOFT-CDO-ALLDAYEVENT:FALSE
SUMMARY:Osmosis Skin Care Retreat
DESCRIPTION:Radiate inside and out this summer! Osmosis is hosting a special Skin Care Retreat to kick off the season of sun\, sand\, and travel.\n\nOn Friday\, May 29\, join your friends for an informative and rejuvenating spa day featuring the products of San Rafael-based Juice Beauty.\n\nEnjoy organic tea and snacks while you soak your feet in our therapeutic Cedar Enzyme Bath–prep those toes for sandal season! Brandy D’Onofrio Turnbull of Juice Beauty will share expert skin care advice and techniques\, including . Proceed through your transformative spa day with a series of 45 minute experiences that will restore your skin and energize your body:\n\n• 45 minute Naturopathica Facial by our expert Osmosis aestheticians\n\n• 45 minute Yoga session with Camina Gillotti\n\n• 45 minute Sound Therapy in our Hammock Garden\n\n$175 all inclusive.\nPlaces are limited to only 15 guests\, so make your reservations today!\n\nThis is such a nice opportunity for you to commune with your friends\, meet new people in a comfortable and friendly environment\, and learn the best tools and tricks for keeping your skin healthy and fresh this summer. Hope to see you there!
X-ALT-DESC;FMTTYPE=text/html:Radiate inside and out this summer! Osmosis is hosting a special Skin Care Retreat to kick off the season of sun\, sand\, and travel.\n\nOn Friday\, May 29\, join your friends for an informative and rejuvenating spa day featuring the products of San Rafael-based Juice Beauty.\n\nEnjoy organic tea and snacks while you soak your feet in our therapeutic Cedar Enzyme Bath–prep those toes for sandal season! Brandy D’Onofrio Turnbull of Juice Beauty will share expert skin care advice and techniques\, including . Proceed through your transformative spa day with a series of 45 minute experiences that will restore your skin and energize your body:\n\n• 45 minute Naturopathica Facial by our expert Osmosis aestheticians\n\n• 45 minute Yoga session with Camina Gillotti\n\n• 45 minute Sound Therapy in our Hammock Garden\n\n$175 all inclusive.\nPlaces are limited to only 15 guests\, so make your reservations today!\n\nThis is such a nice opportunity for you to commune with your friends\, meet new people in a comfortable and friendly environment\, and learn the best tools and tricks for keeping your skin healthy and fresh this summer. Hope to see you there!
LOCATION:Osmosis Day Spa Sanctuary 209 Bohemian Hwy\, Freestone\, CA 95472 United States
UID:e.3189.5042457
SEQUENCE:3
DTSTAMP:20260420T023702Z
URL:https://business.sebastopol.org/events/details/osmosis-skin-care-retreat-05-29-2015-5042457
END:VEVENT

END:VCALENDAR
