BEGIN:VCALENDAR
VERSION:2.0
PRODID:-//ChamberMaster//Event Calendar 2.0//EN
METHOD:PUBLISH
X-PUBLISHED-TTL:P3D
REFRESH-INTERVAL:P3D
CALSCALE:GREGORIAN
BEGIN:VEVENT
DTSTART:20150201T040000Z
DTEND:20150201T070000Z
X-MICROSOFT-CDO-ALLDAYEVENT:FALSE
SUMMARY:Out of the Blue Band
DESCRIPTION:Swing into 2015 with the  lively\, upbeat classics of this popular  local dance band\; and loosen up your twinkle toes with a Swing Dance lesson at 7 pm from Mark   fine refreshments for sale.
X-ALT-DESC;FMTTYPE=text/html:Swing into 2015 with the  lively\, upbeat classics of this popular  local dance band\; and loosen up your twinkle toes with a Swing Dance lesson at 7 pm from Mark & Elizabeth Weiss of Raymond’s Bakery!  $15 General includes lesson @ 7 pm. Cabaret seating/dance floor\; fine refreshments for sale.
LOCATION:Occidental Center for the Arts 3850 Doris Murphy Ct Bohemian Hwy @ Graton Rd
UID:e.3189.31580
SEQUENCE:3
DTSTAMP:20260422T084354Z
URL:https://business.sebastopol.org/events/details/out-of-the-blue-band-01-31-2015-31580
END:VEVENT

END:VCALENDAR
