BEGIN:VCALENDAR
VERSION:2.0
PRODID:-//ChamberMaster//Event Calendar 2.0//EN
METHOD:PUBLISH
X-PUBLISHED-TTL:P3D
REFRESH-INTERVAL:P3D
CALSCALE:GREGORIAN
BEGIN:VEVENT
DTSTART:20130525T180000Z
DTEND:20130525T220000Z
X-MICROSOFT-CDO-ALLDAYEVENT:FALSE
SUMMARY:Oysters and White Wine
DESCRIPTION:Summer is here and to kick off Memorial Day weekend the Oyster Girls are visiting Dutton-Goldfield Winery from 11am-3pm on Saturday May 25th. We’ll feature an “Oysters and Whites” flight complete with 3 white wines paired with 3 oysters.  Come in early as we’re sure to go through these oysters quickly!  $25/flight.
X-ALT-DESC;FMTTYPE=text/html:Summer is here and to kick off Memorial Day weekend the Oyster Girls are visiting Dutton-Goldfield Winery from 11am-3pm on Saturday May 25th. We’ll feature an “Oysters and Whites” flight complete with 3 white wines paired with 3 oysters.  Come in early as we’re sure to go through these oysters quickly!  $25/flight.
LOCATION:Dutton-Goldfield Winery\, 3100 Gravenstein Hwy. North\, Sebastopol\, CA. 95472
UID:e.3189.5040646
SEQUENCE:3
DTSTAMP:20260421T215623Z
URL:https://business.sebastopol.org/events/details/oysters-and-white-wine-05-25-2013-5040646
END:VEVENT

END:VCALENDAR
