BEGIN:VCALENDAR
VERSION:2.0
PRODID:-//ChamberMaster//Event Calendar 2.0//EN
METHOD:PUBLISH
X-PUBLISHED-TTL:P3D
REFRESH-INTERVAL:P3D
CALSCALE:GREGORIAN
BEGIN:VEVENT
DTSTART:20130317T030000Z
DTEND:20130317T050000Z
X-MICROSOFT-CDO-ALLDAYEVENT:FALSE
SUMMARY:Patrick Ball: Celtic Harp & Story
DESCRIPTION:Modern day bard and world class Celtic harper Patrick Ball weaves witty tales\, gorgeous harp music and Irish history into a spellbinding performance. $20. Beer\, wine\, pub grub for sale. Wheelchair accessible.
X-ALT-DESC;FMTTYPE=text/html:Modern day bard and world class Celtic harper Patrick Ball weaves witty tales\, gorgeous harp music and Irish history into a spellbinding performance. $20. Beer\, wine\, pub grub for sale. Wheelchair accessible.
LOCATION:Occidental Center for the Arts\, 3850 Doris Murphy Ct. Occidental (Bohemian Hwy.@ Graton Rd.)
UID:e.3189.5040473
SEQUENCE:3
DTSTAMP:20260421T232825Z
URL:https://business.sebastopol.org/events/details/patrick-ball-celtic-harp-story-03-16-2013-5040473
END:VEVENT

END:VCALENDAR
