BEGIN:VCALENDAR
VERSION:2.0
PRODID:-//ChamberMaster//Event Calendar 2.0//EN
METHOD:PUBLISH
X-PUBLISHED-TTL:P3D
REFRESH-INTERVAL:P3D
CALSCALE:GREGORIAN
BEGIN:VEVENT
DTSTART:20140815T010000Z
DTEND:20140815T040000Z
X-MICROSOFT-CDO-ALLDAYEVENT:FALSE
SUMMARY:Patrick Ball : Irish Storytelling & Harp Outdoor Concert
DESCRIPTION:Patrick Ball brings the magic of old Ireland to Freestone\n\nAugust 14 concert will be held outdoors in Osmosis Day Spa Sanctuary’s Japanese meditation garden\n\nStep back from the rush and clamor of the modern world\, rekindle your imagination and childhood sense of wonder with this highly anticipated evening of evocative storytelling and traditional music\, in a setting like no other in California’s wine country. \n\nOsmosis Day Spa Sanctuary continues its beloved outdoor summer concert series with Patrick Ball: An Evening of Celtic Harp and Irish Storytelling. Ball\, currently touring North America\, will offer an evening of enchanting music and legendary tales in the spectacular\, nationally recognized Japanese gardens of Osmosis Day Spa Sanctuary in Freestone. Ball’s timeless stories\, accompanied by the crystalline\, bell-like tones of the Celtic brass-strung harp\, merge with the serenity of the gardens in a perfect harmony of art and na-ture.\n\nDelectable appetizers will be served with perfect wine pairings\, and the concert will be followed by rejuvenating enzyme foot baths\, a social\, convivial part of Osmosis’ signature Japanese healing therapy\, the Cedar Enzyme Bath. \n\nAdvanced tickets are required\, and can be purchased by calling Osmosis at 707-823-8231 or by visiting www.osmosis.com/plan/events.
X-ALT-DESC;FMTTYPE=text/html:Patrick Ball brings the magic of old Ireland to Freestone\n\nAugust 14 concert will be held outdoors in Osmosis Day Spa Sanctuary’s Japanese meditation garden\n\nStep back from the rush and clamor of the modern world\, rekindle your imagination and childhood sense of wonder with this highly anticipated evening of evocative storytelling and traditional music\, in a setting like no other in California’s wine country. \n\nOsmosis Day Spa Sanctuary continues its beloved outdoor summer concert series with Patrick Ball: An Evening of Celtic Harp and Irish Storytelling. Ball\, currently touring North America\, will offer an evening of enchanting music and legendary tales in the spectacular\, nationally recognized Japanese gardens of Osmosis Day Spa Sanctuary in Freestone. Ball’s timeless stories\, accompanied by the crystalline\, bell-like tones of the Celtic brass-strung harp\, merge with the serenity of the gardens in a perfect harmony of art and na-ture.\n\nDelectable appetizers will be served with perfect wine pairings\, and the concert will be followed by rejuvenating enzyme foot baths\, a social\, convivial part of Osmosis’ signature Japanese healing therapy\, the Cedar Enzyme Bath. \n\nAdvanced tickets are required\, and can be purchased by calling Osmosis at 707-823-8231 or by visiting www.osmosis.com/plan/events.
LOCATION:Osmosis Day Spa Sanctuary 209 Bohemian Highway Freestone\, CA
UID:e.3189.5041473
SEQUENCE:3
DTSTAMP:20260419T123718Z
URL:https://business.sebastopol.org/events/details/patrick-ball-irish-storytelling-harp-outdoor-concert-08-14-2014-5041473
END:VEVENT

END:VCALENDAR
