BEGIN:VCALENDAR
VERSION:2.0
PRODID:-//ChamberMaster//Event Calendar 2.0//EN
METHOD:PUBLISH
X-PUBLISHED-TTL:P3D
REFRESH-INTERVAL:P3D
CALSCALE:GREGORIAN
BEGIN:VEVENT
DTSTART:20150702T000000Z
DTEND:20150903T000000Z
X-MICROSOFT-CDO-ALLDAYEVENT:FALSE
SUMMARY:Peacetown Summer Concert Series
DESCRIPTION:This summer will mark the fourth year of our Peacetown Summer Concert Series at Ives Park. Since its inception these free community events have grown in popularity to where they now draw in 400-500 happy folks every week to enjoy the music\, the good vibes and camaraderie of friends and good neighbors. This year we will have top notch entertainment from 5:00-8:00pm every Wednesday in the beautiful setting at Ives Park for 10 weeks beginning on July 1st. Cold beer from Lagunitas\, fine wine from Taft Street and food trucks bring in everything anyone needs for a joyful experience. Folks come expecting a good time and leave well satisfied.
X-ALT-DESC;FMTTYPE=text/html:This summer will mark the fourth year of our Peacetown Summer Concert Series at Ives Park. Since its inception these free community events have grown in popularity to where they now draw in 400-500 happy folks every week to enjoy the music\, the good vibes and camaraderie of friends and good neighbors. This year we will have top notch entertainment from 5:00-8:00pm every Wednesday in the beautiful setting at Ives Park for 10 weeks beginning on July 1st. Cold beer from Lagunitas\, fine wine from Taft Street and food trucks bring in everything anyone needs for a joyful experience. Folks come expecting a good time and leave well satisfied.
LOCATION:Ives Park Sebastopol
UID:e.3189.5042528
SEQUENCE:3
DTSTAMP:20260419T192448Z
URL:https://business.sebastopol.org/events/details/peacetown-summer-concert-series-07-01-2015-5042528
END:VEVENT

END:VCALENDAR
