BEGIN:VCALENDAR
VERSION:2.0
PRODID:-//ChamberMaster//Event Calendar 2.0//EN
METHOD:PUBLISH
X-PUBLISHED-TTL:P3D
REFRESH-INTERVAL:P3D
CALSCALE:GREGORIAN
BEGIN:VEVENT
DTSTART:20140807T000000Z
DTEND:20140807T030000Z
X-MICROSOFT-CDO-ALLDAYEVENT:FALSE
SUMMARY:Peacetown Summer Concert Series
DESCRIPTION:Each Wednesday through August 27th\n\nFree Concerts to the public.  This week Blue Moon Band with Opener Harvest Band\n\nBring your own lawn chairs and dancing shoes!!
X-ALT-DESC;FMTTYPE=text/html:Each Wednesday through August 27th\n\nFree Concerts to the public.  This week Blue Moon Band with Opener Harvest Band\n\nBring your own lawn chairs and dancing shoes!!
LOCATION:Ives Park Sebastopol\, CA
UID:e.3189.22752
SEQUENCE:3
DTSTAMP:20260419T123502Z
URL:https://business.sebastopol.org/events/details/peacetown-summer-concert-series-08-06-2014-22752
END:VEVENT

END:VCALENDAR
