BEGIN:VCALENDAR
VERSION:2.0
PRODID:-//ChamberMaster//Event Calendar 2.0//EN
METHOD:PUBLISH
X-PUBLISHED-TTL:P3D
REFRESH-INTERVAL:P3D
CALSCALE:GREGORIAN
BEGIN:VEVENT
DTSTART:20140827T185800Z
DTEND:20140827T185800Z
X-MICROSOFT-CDO-ALLDAYEVENT:FALSE
SUMMARY:Peacetown Summer Concert Series
DESCRIPTION:Last Concert of the Series\n\nFree Concerts to the public.  This week Mr. Music & Friends with opener The Love Choir\n\nBring your own lawn chairs and dancing shoes!!
X-ALT-DESC;FMTTYPE=text/html:Last Concert of the Series\n\nFree Concerts to the public.  This week Mr. Music & Friends with opener The Love Choir\n\nBring your own lawn chairs and dancing shoes!!
LOCATION:Ives Park Sebastopol\, CA
UID:e.3189.22764
SEQUENCE:3
DTSTAMP:20260419T123340Z
URL:https://business.sebastopol.org/events/details/peacetown-summer-concert-series-08-27-2014-22764
END:VEVENT

END:VCALENDAR
