BEGIN:VCALENDAR
VERSION:2.0
PRODID:-//ChamberMaster//Event Calendar 2.0//EN
METHOD:PUBLISH
X-PUBLISHED-TTL:P3D
REFRESH-INTERVAL:P3D
CALSCALE:GREGORIAN
BEGIN:VEVENT
DTSTART:20121020T170000Z
DTEND:20121020T233000Z
X-MICROSOFT-CDO-ALLDAYEVENT:FALSE
SUMMARY:“Pink Party” at Graton Ridge Cellars
DESCRIPTION:Graton Ridge Cellars is proud to announce the upcoming fourth annual Pink Party celebrating Breast Cancer Awareness Month.  The party will be held “open house” style during their normal business hours of 10am to 4:30pm on Saturday October 20 and held at the Graton Ridge tasting room. The party features wine tasting and appetizers for $10 per person and those purchasing wine will get a pink boa!  “Whether people can attend are not\, we are encouraging everyone to send us the name and/or photos of loved ones affected by breast cancer for our ‘Pretty in Pink’ Wall of Fame\,” said Sue Bonzell\, the General Manager at the winery.  Graton Ridge Cellars has partnered with Sutter North Bay Women’s Health Center in Santa Rosa to donate a portion of their wine sales on this day. Discounts will also be offered on a few select wines. Since they began the partnership in August 2009\, Graton Ridge Cellars has donated more than $6000 to the Santa Rosa breast care facility.
X-ALT-DESC;FMTTYPE=text/html:Graton Ridge Cellars is proud to announce the upcoming fourth annual Pink Party celebrating Breast Cancer Awareness Month.  The party will be held “open house” style during their normal business hours of 10am to 4:30pm on Saturday October 20 and held at the Graton Ridge tasting room. The party features wine tasting and appetizers for $10 per person and those purchasing wine will get a pink boa!  “Whether people can attend are not\, we are encouraging everyone to send us the name and/or photos of loved ones affected by breast cancer for our ‘Pretty in Pink’ Wall of Fame\,” said Sue Bonzell\, the General Manager at the winery.  Graton Ridge Cellars has partnered with Sutter North Bay Women’s Health Center in Santa Rosa to donate a portion of their wine sales on this day. Discounts will also be offered on a few select wines. Since they began the partnership in August 2009\, Graton Ridge Cellars has donated more than $6000 to the Santa Rosa breast care facility.
LOCATION:Graton Ridge Cellars • 3561 Gravenstein Hwy. North • Sebastopol
UID:e.3189.10626
SEQUENCE:3
DTSTAMP:20260422T071207Z
URL:https://business.sebastopol.org/events/details/pink-party-at-graton-ridge-cellars-10-20-2012-10626
END:VEVENT

END:VCALENDAR
