BEGIN:VCALENDAR
VERSION:2.0
PRODID:-//ChamberMaster//Event Calendar 2.0//EN
METHOD:PUBLISH
X-PUBLISHED-TTL:P3D
REFRESH-INTERVAL:P3D
CALSCALE:GREGORIAN
BEGIN:VEVENT
DTSTART:20151017T020000Z
DTEND:20151025T220000Z
X-MICROSOFT-CDO-ALLDAYEVENT:FALSE
SUMMARY:Pinocchio
DESCRIPTION:Friday\, October 16 & 23 @ 7:00 pm\; Saturday\, October 17 & 24 @ 1:00 pm\; Saturday\, October 17 & 24 @ 3:30 pm\; Sunday\, October 18 & 25 @ 3:00 pm  \nActors' Theater For Children presents PINOCCHIO\, an adaptation of the classic tale of a woodcarver who wants a son and the wooden puppet he creates who wants to be a real boy.  \n$5.00.  \nPresented by Actors' Theater For Children.
X-ALT-DESC;FMTTYPE=text/html:<!--  Visual Designer HTML -->Friday\, October 16 &amp\; 23 @ 7:00 pm\; Saturday\, October 17 &amp\; 24 @ 1:00 pm\; Saturday\, October 17 &amp\; 24 @ 3:30 pm\; Sunday\, October 18 &amp\; 25 @ 3:00 pm  <P>\nActors&#39\; Theater For Children presents PINOCCHIO\, an adaptation of the classic tale of a woodcarver who wants a son and the wooden puppet he creates who wants to be a real boy.  <P>\n$5.00.  <P>\nPresented by Actors&#39\; Theater For Children. <P></P></P></P></P>
LOCATION:Dohn Theater\, Steele Lane Community Center\, 415 Steele Lane\, Santa Rosa\, CA 95404
UID:e.3189.5042831
SEQUENCE:3
DTSTAMP:20260419T190825Z
URL:https://business.sebastopol.org/events/details/pinocchio-10-16-2015-5042831
END:VEVENT

END:VCALENDAR
