BEGIN:VCALENDAR
VERSION:2.0
PRODID:-//ChamberMaster//Event Calendar 2.0//EN
METHOD:PUBLISH
X-PUBLISHED-TTL:P3D
REFRESH-INTERVAL:P3D
CALSCALE:GREGORIAN
BEGIN:VEVENT
DTSTART:20150621T190000Z
DTEND:20150621T220000Z
X-MICROSOFT-CDO-ALLDAYEVENT:FALSE
SUMMARY:Pot Luck Picnic at GoldRidge Farm
DESCRIPTION:More information to follow.
X-ALT-DESC;FMTTYPE=text/html:More information to follow.
LOCATION:Luther Burbank Gold Ridge Farm
UID:e.3189.32283
SEQUENCE:3
DTSTAMP:20260420T003554Z
URL:https://business.sebastopol.org/events/details/pot-luck-picnic-at-goldridge-farm-06-21-2015-32283
END:VEVENT

END:VCALENDAR
