BEGIN:VCALENDAR
VERSION:2.0
PRODID:-//ChamberMaster//Event Calendar 2.0//EN
METHOD:PUBLISH
X-PUBLISHED-TTL:P3D
REFRESH-INTERVAL:P3D
CALSCALE:GREGORIAN
BEGIN:VEVENT
DTSTART:20150712T200000Z
DTEND:20150713T010000Z
X-MICROSOFT-CDO-ALLDAYEVENT:FALSE
SUMMARY:Pre EarleFest Benefit
DESCRIPTION:Featuring local roots favorites:\nBottle Shock\, Lazyman\, John Courage\, Bear’s Belly\, Amber Fenex\n\nJoin us for the Pre-EarleFest Benefit at Hopmonk Tavern in Sebastopol. Sunday\, July 12th from 1-6pm for an afternoon of camaraderie and great music in the Hopmonk Beer Garden. Suggested donation $10. 100% of door proceeds will benefit Earle Baum Center of the Blind for services providing vision rehabilitation.\n\nhttp://www.hopmonk.com/sebastopol/music-and-events/
X-ALT-DESC;FMTTYPE=text/html:Featuring local roots favorites:\nBottle Shock\, Lazyman\, John Courage\, Bear’s Belly\, Amber Fenex\n\nJoin us for the Pre-EarleFest Benefit at Hopmonk Tavern in Sebastopol. Sunday\, July 12th from 1-6pm for an afternoon of camaraderie and great music in the Hopmonk Beer Garden. Suggested donation $10. 100% of door proceeds will benefit Earle Baum Center of the Blind for services providing vision rehabilitation.\n\nhttp://www.hopmonk.com/sebastopol/music-and-events/
LOCATION:Hopmonk Tavern Sebastopol
UID:e.3189.5042509
SEQUENCE:3
DTSTAMP:20260419T230954Z
URL:https://business.sebastopol.org/events/details/pre-earlefest-benefit-07-12-2015-5042509
END:VEVENT

END:VCALENDAR
