BEGIN:VCALENDAR
VERSION:2.0
PRODID:-//ChamberMaster//Event Calendar 2.0//EN
METHOD:PUBLISH
X-PUBLISHED-TTL:P3D
REFRESH-INTERVAL:P3D
CALSCALE:GREGORIAN
BEGIN:VEVENT
DTSTART:20151016T013000Z
DTEND:20151016T030000Z
X-MICROSOFT-CDO-ALLDAYEVENT:FALSE
SUMMARY:Raise Your Inner Game
DESCRIPTION:Why can't I be the successful one?!!!If you have a sense that you have inner obstacles holding you back\,this seminar can provide just the type of breakthrough you're looking for.Who should come? Entrepreneurs\, managers\, employees\, CEOs- anyone who wants the latest neuroscience on how to attain deep\, personal success. This no cost event is sponsored by the Sebastopol Entrepreneurs Project.  Donations are gladly accepted!
X-ALT-DESC;FMTTYPE=text/html:<!--  Visual Designer HTML --><p>&nbsp\;Why can't I be the successful one?!!!</p><p>If you have a sense that you have inner obstacles holding you back\,this seminar can provide just the type of breakthrough you're looking for.</p><p>Who should come? Entrepreneurs\, managers\, employees\, CEOs- anyone who wants the latest neuroscience on how to attain deep\, personal success.&nbsp\;</p><p>This no cost event is sponsored by the Sebastopol Entrepreneurs Project. &nbsp\;Donations are gladly accepted!&nbsp\;</p><p>&nbsp\;</p><p>&nbsp\;</p><p>&nbsp\;</p><p>&nbsp\;</p><p>&nbsp\;</p><p>&nbsp\;</p><p>&nbsp\;</p><p>&nbsp\;</p>&nbsp\;
LOCATION:O'Reilly Media1005 Gravenstein Hwy N.Sebastopol\, Ca 95472
UID:e.3189.5042838
SEQUENCE:3
DTSTAMP:20260419T174828Z
URL:https://business.sebastopol.org/events/details/raise-your-inner-game-10-15-2015-5042838
END:VEVENT

END:VCALENDAR
